BEGIN:VCALENDAR
VERSION:2.0
PRODID:-//Freiwillige Feuerwehr Hardt- und Schönbühlhof - ECPv6.15.13.1//NONSGML v1.0//EN
CALSCALE:GREGORIAN
METHOD:PUBLISH
X-ORIGINAL-URL:https://www.fw-hardtschoenbuehlhof.de
X-WR-CALDESC:Veranstaltungen für Freiwillige Feuerwehr Hardt- und Schönbühlhof
REFRESH-INTERVAL;VALUE=DURATION:PT1H
X-Robots-Tag:noindex
X-PUBLISHED-TTL:PT1H
BEGIN:VTIMEZONE
TZID:Europe/Berlin
BEGIN:DAYLIGHT
TZOFFSETFROM:+0100
TZOFFSETTO:+0200
TZNAME:CEST
DTSTART:20210328T010000
END:DAYLIGHT
BEGIN:STANDARD
TZOFFSETFROM:+0200
TZOFFSETTO:+0100
TZNAME:CET
DTSTART:20211031T010000
END:STANDARD
BEGIN:DAYLIGHT
TZOFFSETFROM:+0100
TZOFFSETTO:+0200
TZNAME:CEST
DTSTART:20220327T010000
END:DAYLIGHT
BEGIN:STANDARD
TZOFFSETFROM:+0200
TZOFFSETTO:+0100
TZNAME:CET
DTSTART:20221030T010000
END:STANDARD
BEGIN:DAYLIGHT
TZOFFSETFROM:+0100
TZOFFSETTO:+0200
TZNAME:CEST
DTSTART:20230326T010000
END:DAYLIGHT
BEGIN:STANDARD
TZOFFSETFROM:+0200
TZOFFSETTO:+0100
TZNAME:CET
DTSTART:20231029T010000
END:STANDARD
END:VTIMEZONE
BEGIN:VEVENT
DTSTART;TZID=Europe/Berlin:20220404T195900
DTEND;TZID=Europe/Berlin:20220404T220000
DTSTAMP:20260424T041356
CREATED:20220408T123449Z
LAST-MODIFIED:20220408T124716Z
UID:1414-1649102340-1649109600@www.fw-hardtschoenbuehlhof.de
SUMMARY:Standardlöschangriff C4
DESCRIPTION:Simon Haubner
URL:https://www.fw-hardtschoenbuehlhof.de/event/__trashed-53/
LOCATION:Feuerwehrgerätehaus\, Schulweg\, Hardthof\, 71706\, Deutschland
CATEGORIES:Übungsdienst
END:VEVENT
BEGIN:VEVENT
DTSTART;TZID=Europe/Berlin:20220407T160000
DTEND;TZID=Europe/Berlin:20220407T165900
DTSTAMP:20260424T041356
CREATED:20220408T123449Z
LAST-MODIFIED:20220408T124716Z
UID:1415-1649347200-1649350740@www.fw-hardtschoenbuehlhof.de
SUMMARY:Zweckverbandsversammlung HuS
DESCRIPTION:
URL:https://www.fw-hardtschoenbuehlhof.de/event/__trashed-52/
LOCATION:Feuerwehrraum Gemeindehaus\, Schulweg 5\, Feuerwehrraum Gemeindehaus HuS\, BW\, 71706\, Deutschland
CATEGORIES:Sitzungstermin oV
END:VEVENT
BEGIN:VEVENT
DTSTART;TZID=Europe/Berlin:20220407T195900
DTEND;TZID=Europe/Berlin:20220407T225900
DTSTAMP:20260424T041356
CREATED:20220408T123449Z
LAST-MODIFIED:20220408T124716Z
UID:1416-1649361540-1649372340@www.fw-hardtschoenbuehlhof.de
SUMMARY:Ausschusssitzung Maibaumstellen
DESCRIPTION:
URL:https://www.fw-hardtschoenbuehlhof.de/event/__trashed-51/
LOCATION:Feuerwehrraum Gemeindehaus\, Schulweg 5\, Feuerwehrraum Gemeindehaus HuS\, BW\, 71706\, Deutschland
CATEGORIES:Sitzungstermin oV
END:VEVENT
BEGIN:VEVENT
DTSTART;TZID=Europe/Berlin:20220408T180000
DTEND;TZID=Europe/Berlin:20220408T220000
DTSTAMP:20260424T041356
CREATED:20220408T123448Z
LAST-MODIFIED:20220408T124716Z
UID:1417-1649440800-1649455200@www.fw-hardtschoenbuehlhof.de
SUMMARY:Kreisfeuerwehrverbandsversammlung
DESCRIPTION:
URL:https://www.fw-hardtschoenbuehlhof.de/event/__trashed-50/
LOCATION:Feuerwehrraum Gemeindehaus\, Schulweg 5\, Feuerwehrraum Gemeindehaus HuS\, BW\, 71706\, Deutschland
CATEGORIES:Sitzungtermin mV
END:VEVENT
BEGIN:VEVENT
DTSTART;TZID=Europe/Berlin:20220411T195900
DTEND;TZID=Europe/Berlin:20220411T220000
DTSTAMP:20260424T041356
CREATED:20220408T123448Z
LAST-MODIFIED:20220408T124716Z
UID:1418-1649707140-1649714400@www.fw-hardtschoenbuehlhof.de
SUMMARY:Standardlöschangriff C3
DESCRIPTION:Patrick Warthmann
URL:https://www.fw-hardtschoenbuehlhof.de/event/__trashed-49/
LOCATION:Feuerwehrgerätehaus\, Schulweg\, Hardthof\, 71706\, Deutschland
CATEGORIES:Übungsdienst
END:VEVENT
BEGIN:VEVENT
DTSTART;TZID=Europe/Berlin:20220425T180000
DTEND;TZID=Europe/Berlin:20220425T220000
DTSTAMP:20260424T041356
CREATED:20220408T123448Z
LAST-MODIFIED:20220408T124716Z
UID:1419-1650909600-1650924000@www.fw-hardtschoenbuehlhof.de
SUMMARY:Maibaum holen
DESCRIPTION:Christian Merkle
URL:https://www.fw-hardtschoenbuehlhof.de/event/__trashed-48/
LOCATION:Feuerwehrgerätehaus\, Schulweg\, Hardthof\, 71706\, Deutschland
CATEGORIES:Übungsdienst
END:VEVENT
BEGIN:VEVENT
DTSTART;TZID=Europe/Berlin:20220429T160000
DTEND;TZID=Europe/Berlin:20220429T220000
DTSTAMP:20260424T041356
CREATED:20220408T123448Z
LAST-MODIFIED:20220408T124716Z
UID:1420-1651248000-1651269600@www.fw-hardtschoenbuehlhof.de
SUMMARY:Festaufbau und Kranzbinden
DESCRIPTION:
URL:https://www.fw-hardtschoenbuehlhof.de/event/__trashed-47/
LOCATION:Feuerwehrgerätehaus\, Schulweg\, Hardthof\, 71706\, Deutschland
CATEGORIES:Aufbau / Abbau Veranstaltung
END:VEVENT
BEGIN:VEVENT
DTSTART;TZID=Europe/Berlin:20220430T120000
DTEND;TZID=Europe/Berlin:20220501T135900
DTSTAMP:20260424T041356
CREATED:20220408T123447Z
LAST-MODIFIED:20220408T124716Z
UID:1421-1651320000-1651413540@www.fw-hardtschoenbuehlhof.de
SUMMARY:Maibaumstellen 2022
DESCRIPTION:
URL:https://www.fw-hardtschoenbuehlhof.de/event/__trashed-46/
LOCATION:Feuerwehrgerätehaus\, Schulweg\, Hardthof\, 71706\, Deutschland
CATEGORIES:Maibaumstellen
END:VEVENT
END:VCALENDAR