BEGIN:VCALENDAR
VERSION:2.0
PRODID:-//Freiwillige Feuerwehr Hardt- und Schönbühlhof - ECPv6.15.13.1//NONSGML v1.0//EN
CALSCALE:GREGORIAN
METHOD:PUBLISH
X-WR-CALNAME:Freiwillige Feuerwehr Hardt- und Schönbühlhof
X-ORIGINAL-URL:https://www.fw-hardtschoenbuehlhof.de
X-WR-CALDESC:Veranstaltungen für Freiwillige Feuerwehr Hardt- und Schönbühlhof
REFRESH-INTERVAL;VALUE=DURATION:PT1H
X-Robots-Tag:noindex
X-PUBLISHED-TTL:PT1H
BEGIN:VTIMEZONE
TZID:Europe/Berlin
BEGIN:DAYLIGHT
TZOFFSETFROM:+0100
TZOFFSETTO:+0200
TZNAME:CEST
DTSTART:20210328T010000
END:DAYLIGHT
BEGIN:STANDARD
TZOFFSETFROM:+0200
TZOFFSETTO:+0100
TZNAME:CET
DTSTART:20211031T010000
END:STANDARD
BEGIN:DAYLIGHT
TZOFFSETFROM:+0100
TZOFFSETTO:+0200
TZNAME:CEST
DTSTART:20220327T010000
END:DAYLIGHT
BEGIN:STANDARD
TZOFFSETFROM:+0200
TZOFFSETTO:+0100
TZNAME:CET
DTSTART:20221030T010000
END:STANDARD
BEGIN:DAYLIGHT
TZOFFSETFROM:+0100
TZOFFSETTO:+0200
TZNAME:CEST
DTSTART:20230326T010000
END:DAYLIGHT
BEGIN:STANDARD
TZOFFSETFROM:+0200
TZOFFSETTO:+0100
TZNAME:CET
DTSTART:20231029T010000
END:STANDARD
END:VTIMEZONE
BEGIN:VEVENT
DTSTART;TZID=Europe/Berlin:20220903T045900
DTEND;TZID=Europe/Berlin:20220904T235900
DTSTAMP:20260423T205904
CREATED:20220408T123416Z
LAST-MODIFIED:20220408T124731Z
UID:1445-1662181140-1662335940@www.fw-hardtschoenbuehlhof.de
SUMMARY:Hüttenwanderung
DESCRIPTION:Michael Staubitz
URL:https://www.fw-hardtschoenbuehlhof.de/event/__trashed-22/
LOCATION:Tilisunahütte\, \, Gargellen Montafon\, Tilisunahütte\, Gargellen Montafon\, Österreich
CATEGORIES:Ausflug
END:VEVENT
BEGIN:VEVENT
DTSTART;TZID=Europe/Berlin:20220905T200000
DTEND;TZID=Europe/Berlin:20220905T220000
DTSTAMP:20260423T205904
CREATED:20220408T123416Z
LAST-MODIFIED:20220819T110517Z
UID:1446-1662408000-1662415200@www.fw-hardtschoenbuehlhof.de
SUMMARY:Ausbildung Wärmebildkamera
DESCRIPTION:Simon Haubner\, Christian Troll
URL:https://www.fw-hardtschoenbuehlhof.de/event/__trashed-21/
LOCATION:Feuerwehrgerätehaus\, Schulweg\, Hardthof\, 71706\, Deutschland
CATEGORIES:Übungsdienst
END:VEVENT
BEGIN:VEVENT
DTSTART;TZID=Europe/Berlin:20220909T075900
DTEND;TZID=Europe/Berlin:20220909T195900
DTSTAMP:20260423T205904
CREATED:20220408T123408Z
LAST-MODIFIED:20220408T124731Z
UID:1447-1662710340-1662753540@www.fw-hardtschoenbuehlhof.de
SUMMARY:KFV LB Lehr- und Informationsfahrt Truppführer
DESCRIPTION:
URL:https://www.fw-hardtschoenbuehlhof.de/event/__trashed-20/
LOCATION:Feuerwehrgerätehaus\, Schulweg\, Hardthof\, 71706\, Deutschland
CATEGORIES:Lehr- und Informationsfahrt
END:VEVENT
BEGIN:VEVENT
DTSTART;TZID=Europe/Berlin:20220917T075900
DTEND;TZID=Europe/Berlin:20220917T180000
DTSTAMP:20260423T205904
CREATED:20220408T123408Z
LAST-MODIFIED:20220408T124731Z
UID:1448-1663401540-1663437600@www.fw-hardtschoenbuehlhof.de
SUMMARY:KFV LB Technik-Messe / Tag der Feuerwehr
DESCRIPTION:
URL:https://www.fw-hardtschoenbuehlhof.de/event/__trashed-19/
LOCATION:Feuerwehrraum Gemeindehaus\, Schulweg 5\, Feuerwehrraum Gemeindehaus HuS\, BW\, 71706\, Deutschland
CATEGORIES:Sitzungstermin oV
END:VEVENT
BEGIN:VEVENT
DTSTART;TZID=Europe/Berlin:20220919T195900
DTEND;TZID=Europe/Berlin:20220919T220000
DTSTAMP:20260423T205904
CREATED:20220408T123407Z
LAST-MODIFIED:20220408T124731Z
UID:1449-1663617540-1663624800@www.fw-hardtschoenbuehlhof.de
SUMMARY:Löschübung
DESCRIPTION:Felix Hellmann
URL:https://www.fw-hardtschoenbuehlhof.de/event/__trashed-18/
LOCATION:Feuerwehrgerätehaus\, Schulweg\, Hardthof\, 71706\, Deutschland
CATEGORIES:Übungsdienst
END:VEVENT
END:VCALENDAR