BEGIN:VCALENDAR
VERSION:2.0
PRODID:-//Freiwillige Feuerwehr Hardt- und Schönbühlhof - ECPv6.15.13.1//NONSGML v1.0//EN
CALSCALE:GREGORIAN
METHOD:PUBLISH
X-WR-CALNAME:Freiwillige Feuerwehr Hardt- und Schönbühlhof
X-ORIGINAL-URL:https://www.fw-hardtschoenbuehlhof.de
X-WR-CALDESC:Veranstaltungen für Freiwillige Feuerwehr Hardt- und Schönbühlhof
REFRESH-INTERVAL;VALUE=DURATION:PT1H
X-Robots-Tag:noindex
X-PUBLISHED-TTL:PT1H
BEGIN:VTIMEZONE
TZID:Europe/Berlin
BEGIN:DAYLIGHT
TZOFFSETFROM:+0100
TZOFFSETTO:+0200
TZNAME:CEST
DTSTART:20210328T010000
END:DAYLIGHT
BEGIN:STANDARD
TZOFFSETFROM:+0200
TZOFFSETTO:+0100
TZNAME:CET
DTSTART:20211031T010000
END:STANDARD
BEGIN:DAYLIGHT
TZOFFSETFROM:+0100
TZOFFSETTO:+0200
TZNAME:CEST
DTSTART:20220327T010000
END:DAYLIGHT
BEGIN:STANDARD
TZOFFSETFROM:+0200
TZOFFSETTO:+0100
TZNAME:CET
DTSTART:20221030T010000
END:STANDARD
BEGIN:DAYLIGHT
TZOFFSETFROM:+0100
TZOFFSETTO:+0200
TZNAME:CEST
DTSTART:20230326T010000
END:DAYLIGHT
BEGIN:STANDARD
TZOFFSETFROM:+0200
TZOFFSETTO:+0100
TZNAME:CET
DTSTART:20231029T010000
END:STANDARD
END:VTIMEZONE
BEGIN:VEVENT
DTSTART;TZID=Europe/Berlin:20221205T195900
DTEND;TZID=Europe/Berlin:20221205T220000
DTSTAMP:20260423T164225
CREATED:20220408T123405Z
LAST-MODIFIED:20220408T124744Z
UID:1463-1670270340-1670277600@www.fw-hardtschoenbuehlhof.de
SUMMARY:Ausschusssitzung
DESCRIPTION:
URL:https://www.fw-hardtschoenbuehlhof.de/event/__trashed-4/
LOCATION:Feuerwehrraum Gemeindehaus\, Schulweg 5\, Feuerwehrraum Gemeindehaus HuS\, BW\, 71706\, Deutschland
CATEGORIES:Sitzungstermin oV
END:VEVENT
BEGIN:VEVENT
DTSTART;TZID=Europe/Berlin:20221212T195900
DTEND;TZID=Europe/Berlin:20221212T220000
DTSTAMP:20260423T164225
CREATED:20220408T123405Z
LAST-MODIFIED:20221201T131127Z
UID:1464-1670875140-1670882400@www.fw-hardtschoenbuehlhof.de
SUMMARY:Löschübung
DESCRIPTION:Nicole Hoppe
URL:https://www.fw-hardtschoenbuehlhof.de/event/__trashed-3/
LOCATION:Feuerwehrgerätehaus\, Schulweg\, Hardthof\, 71706\, Deutschland
CATEGORIES:Übungsdienst
END:VEVENT
BEGIN:VEVENT
DTSTART;TZID=Europe/Berlin:20221217T193000
DTEND;TZID=Europe/Berlin:20221217T212900
DTSTAMP:20260423T164225
CREATED:20220408T123405Z
LAST-MODIFIED:20220408T124744Z
UID:1465-1671305400-1671312540@www.fw-hardtschoenbuehlhof.de
SUMMARY:letzter Dienstabend 2022
DESCRIPTION:Christian Merkle\, Dieter Noe
URL:https://www.fw-hardtschoenbuehlhof.de/event/__trashed-2/
LOCATION:Feuerwehrgerätehaus\, Schulweg\, Hardthof\, 71706\, Deutschland
CATEGORIES:Übungsdienst
END:VEVENT
BEGIN:VEVENT
DTSTART;TZID=Europe/Berlin:20221220T122900
DTEND;TZID=Europe/Berlin:20221220T160000
DTSTAMP:20260423T164225
CREATED:20220408T123405Z
LAST-MODIFIED:20220408T124744Z
UID:1466-1671539340-1671552000@www.fw-hardtschoenbuehlhof.de
SUMMARY:LFS BW - Führungskompetenz
DESCRIPTION:
URL:https://www.fw-hardtschoenbuehlhof.de/event/__trashed/
LOCATION:online\, online\, Deutschland
CATEGORIES:Lehrgang Webinar
END:VEVENT
END:VCALENDAR