BEGIN:VCALENDAR
VERSION:2.0
PRODID:-//Freiwillige Feuerwehr Hardt- und Schönbühlhof - ECPv6.15.13.1//NONSGML v1.0//EN
CALSCALE:GREGORIAN
METHOD:PUBLISH
X-ORIGINAL-URL:https://www.fw-hardtschoenbuehlhof.de
X-WR-CALDESC:Veranstaltungen für Freiwillige Feuerwehr Hardt- und Schönbühlhof
REFRESH-INTERVAL;VALUE=DURATION:PT1H
X-Robots-Tag:noindex
X-PUBLISHED-TTL:PT1H
BEGIN:VTIMEZONE
TZID:Europe/Berlin
BEGIN:DAYLIGHT
TZOFFSETFROM:+0100
TZOFFSETTO:+0200
TZNAME:CEST
DTSTART:20220327T010000
END:DAYLIGHT
BEGIN:STANDARD
TZOFFSETFROM:+0200
TZOFFSETTO:+0100
TZNAME:CET
DTSTART:20221030T010000
END:STANDARD
BEGIN:DAYLIGHT
TZOFFSETFROM:+0100
TZOFFSETTO:+0200
TZNAME:CEST
DTSTART:20230326T010000
END:DAYLIGHT
BEGIN:STANDARD
TZOFFSETFROM:+0200
TZOFFSETTO:+0100
TZNAME:CET
DTSTART:20231029T010000
END:STANDARD
BEGIN:DAYLIGHT
TZOFFSETFROM:+0100
TZOFFSETTO:+0200
TZNAME:CEST
DTSTART:20240331T010000
END:DAYLIGHT
BEGIN:STANDARD
TZOFFSETFROM:+0200
TZOFFSETTO:+0100
TZNAME:CET
DTSTART:20241027T010000
END:STANDARD
END:VTIMEZONE
BEGIN:VEVENT
DTSTART;TZID=Europe/Berlin:20230306T195900
DTEND;TZID=Europe/Berlin:20230306T220000
DTSTAMP:20260423T124117
CREATED:20221223T124744Z
LAST-MODIFIED:20221223T124744Z
UID:2363-1678132740-1678140000@www.fw-hardtschoenbuehlhof.de
SUMMARY:Löschübung
DESCRIPTION:Patrick Warthmann
URL:https://www.fw-hardtschoenbuehlhof.de/event/loeschuebung-6/
LOCATION:Feuerwehrgerätehaus\, Schulweg\, Hardthof\, 71706\, Deutschland
CATEGORIES:Übungsdienst
END:VEVENT
BEGIN:VEVENT
DTSTART;TZID=Europe/Berlin:20230313T195900
DTEND;TZID=Europe/Berlin:20230313T220000
DTSTAMP:20260423T124117
CREATED:20221223T124744Z
LAST-MODIFIED:20221223T124744Z
UID:2364-1678737540-1678744800@www.fw-hardtschoenbuehlhof.de
SUMMARY:Ausschusssitzung
DESCRIPTION:
URL:https://www.fw-hardtschoenbuehlhof.de/event/ausschusssitzung-4/
LOCATION:Feuerwehrraum Gemeindehaus\, Schulweg 5\, Feuerwehrraum Gemeindehaus HuS\, BW\, 71706\, Deutschland
CATEGORIES:Sitzungstermin oV
END:VEVENT
BEGIN:VEVENT
DTSTART;TZID=Europe/Berlin:20230318T195900
DTEND;TZID=Europe/Berlin:20230318T235900
DTSTAMP:20260423T124117
CREATED:20221223T124744Z
LAST-MODIFIED:20221223T124744Z
UID:2365-1679169540-1679183940@www.fw-hardtschoenbuehlhof.de
SUMMARY:Kameradschaftsabend 2023
DESCRIPTION:
URL:https://www.fw-hardtschoenbuehlhof.de/event/kameradschaftsabend-2023/
LOCATION:Feuerwehrraum Gemeindehaus\, Schulweg 5\, Feuerwehrraum Gemeindehaus HuS\, BW\, 71706\, Deutschland
CATEGORIES:Kameradschaftsabend
END:VEVENT
BEGIN:VEVENT
DTSTART;TZID=Europe/Berlin:20230320T195900
DTEND;TZID=Europe/Berlin:20230320T220000
DTSTAMP:20260423T124117
CREATED:20221223T124744Z
LAST-MODIFIED:20221223T124744Z
UID:2366-1679342340-1679349600@www.fw-hardtschoenbuehlhof.de
SUMMARY:Löschübung - Wärmebildkamera
DESCRIPTION:Simon Haubner
URL:https://www.fw-hardtschoenbuehlhof.de/event/loeschuebung-waermebildkamera/
LOCATION:Feuerwehrgerätehaus\, Schulweg\, Hardthof\, 71706\, Deutschland
CATEGORIES:Übungsdienst
END:VEVENT
BEGIN:VEVENT
DTSTART;TZID=Europe/Berlin:20230328T180000
DTEND;TZID=Europe/Berlin:20230328T210000
DTSTAMP:20260423T124117
CREATED:20221223T124744Z
LAST-MODIFIED:20221223T124744Z
UID:2367-1680026400-1680037200@www.fw-hardtschoenbuehlhof.de
SUMMARY:Belastungsübung Atemschutzstrecke
DESCRIPTION:Christian Troll
URL:https://www.fw-hardtschoenbuehlhof.de/event/belastungsuebung-atemschutzstrecke/
LOCATION:Feuerwehr Leonberg\, Römerstraße 134\, Leonberg\, Feuerwehr Leonberg\, Römerstraße 134\, 71229 Leonberg\, BW\, 71229\, Deutschland
CATEGORIES:Übungsdienst
END:VEVENT
END:VCALENDAR