BEGIN:VCALENDAR
VERSION:2.0
PRODID:-//Freiwillige Feuerwehr Hardt- und Schönbühlhof - ECPv6.15.13.1//NONSGML v1.0//EN
CALSCALE:GREGORIAN
METHOD:PUBLISH
X-WR-CALNAME:Freiwillige Feuerwehr Hardt- und Schönbühlhof
X-ORIGINAL-URL:https://www.fw-hardtschoenbuehlhof.de
X-WR-CALDESC:Veranstaltungen für Freiwillige Feuerwehr Hardt- und Schönbühlhof
REFRESH-INTERVAL;VALUE=DURATION:PT1H
X-Robots-Tag:noindex
X-PUBLISHED-TTL:PT1H
BEGIN:VTIMEZONE
TZID:Europe/Berlin
BEGIN:DAYLIGHT
TZOFFSETFROM:+0100
TZOFFSETTO:+0200
TZNAME:CEST
DTSTART:20220327T010000
END:DAYLIGHT
BEGIN:STANDARD
TZOFFSETFROM:+0200
TZOFFSETTO:+0100
TZNAME:CET
DTSTART:20221030T010000
END:STANDARD
BEGIN:DAYLIGHT
TZOFFSETFROM:+0100
TZOFFSETTO:+0200
TZNAME:CEST
DTSTART:20230326T010000
END:DAYLIGHT
BEGIN:STANDARD
TZOFFSETFROM:+0200
TZOFFSETTO:+0100
TZNAME:CET
DTSTART:20231029T010000
END:STANDARD
BEGIN:DAYLIGHT
TZOFFSETFROM:+0100
TZOFFSETTO:+0200
TZNAME:CEST
DTSTART:20240331T010000
END:DAYLIGHT
BEGIN:STANDARD
TZOFFSETFROM:+0200
TZOFFSETTO:+0100
TZNAME:CET
DTSTART:20241027T010000
END:STANDARD
END:VTIMEZONE
BEGIN:VEVENT
DTSTART;TZID=Europe/Berlin:20230403T195900
DTEND;TZID=Europe/Berlin:20230403T220000
DTSTAMP:20260423T111201
CREATED:20221223T124744Z
LAST-MODIFIED:20221223T124744Z
UID:2368-1680551940-1680559200@www.fw-hardtschoenbuehlhof.de
SUMMARY:Technische Hilfeleistung
DESCRIPTION:Roland Gutscher
URL:https://www.fw-hardtschoenbuehlhof.de/event/technische-hilfeleistung/
LOCATION:Feuerwehrgerätehaus\, Schulweg\, Hardthof\, 71706\, Deutschland
CATEGORIES:Übungsdienst
END:VEVENT
BEGIN:VEVENT
DTSTART;TZID=Europe/Berlin:20230405T200000
DTEND;TZID=Europe/Berlin:20230405T220000
DTSTAMP:20260423T111201
CREATED:20230324T105516Z
LAST-MODIFIED:20230324T105516Z
UID:2564-1680724800-1680732000@www.fw-hardtschoenbuehlhof.de
SUMMARY:Ausschusssitzung
DESCRIPTION:
URL:https://www.fw-hardtschoenbuehlhof.de/event/ausschusssitzung-7/
LOCATION:Feuerwehrraum Gemeindehaus\, Schulweg 5\, Feuerwehrraum Gemeindehaus HuS\, BW\, 71706\, Deutschland
CATEGORIES:Sitzungstermin oV
END:VEVENT
BEGIN:VEVENT
DTSTART;TZID=Europe/Berlin:20230417T195900
DTEND;TZID=Europe/Berlin:20230417T220000
DTSTAMP:20260423T111201
CREATED:20221223T124744Z
LAST-MODIFIED:20221223T124744Z
UID:2369-1681761540-1681768800@www.fw-hardtschoenbuehlhof.de
SUMMARY:Löschübung
DESCRIPTION:Martin Gutscher
URL:https://www.fw-hardtschoenbuehlhof.de/event/loeschuebung-7/
LOCATION:Feuerwehrgerätehaus\, Schulweg\, Hardthof\, 71706\, Deutschland
CATEGORIES:Übungsdienst
END:VEVENT
BEGIN:VEVENT
DTSTART;TZID=Europe/Berlin:20230421T190000
DTEND;TZID=Europe/Berlin:20230421T220000
DTSTAMP:20260423T111201
CREATED:20221223T124744Z
LAST-MODIFIED:20221223T124744Z
UID:2370-1682103600-1682114400@www.fw-hardtschoenbuehlhof.de
SUMMARY:KFV LB - Verbandsversammlung
DESCRIPTION:
URL:https://www.fw-hardtschoenbuehlhof.de/event/kfv-lb-verbandsversammlung/
CATEGORIES:Sitzungtermin mV
END:VEVENT
BEGIN:VEVENT
DTSTART;TZID=Europe/Berlin:20230424T190000
DTEND;TZID=Europe/Berlin:20230424T220000
DTSTAMP:20260423T111201
CREATED:20221223T124744Z
LAST-MODIFIED:20230317T194454Z
UID:2371-1682362800-1682373600@www.fw-hardtschoenbuehlhof.de
SUMMARY:Maibaumstellen - Vorbereitung
DESCRIPTION:
URL:https://www.fw-hardtschoenbuehlhof.de/event/maibaumstellen-vorbereitung/
LOCATION:Feuerwehrgerätehaus\, Schulweg\, Hardthof\, 71706\, Deutschland
CATEGORIES:Aufbau / Abbau Veranstaltung
END:VEVENT
BEGIN:VEVENT
DTSTART;TZID=Europe/Berlin:20230425T180000
DTEND;TZID=Europe/Berlin:20230425T220000
DTSTAMP:20260423T111201
CREATED:20230317T194555Z
LAST-MODIFIED:20230317T194555Z
UID:2562-1682445600-1682460000@www.fw-hardtschoenbuehlhof.de
SUMMARY:Maibaumstellen - Spitze holen
DESCRIPTION:
URL:https://www.fw-hardtschoenbuehlhof.de/event/maibaumstellen-spitze-holen/
LOCATION:Feuerwehrgerätehaus\, Schulweg\, Hardthof\, 71706\, Deutschland
CATEGORIES:Aufbau / Abbau Veranstaltung
END:VEVENT
BEGIN:VEVENT
DTSTART;TZID=Europe/Berlin:20230428T180000
DTEND;TZID=Europe/Berlin:20230428T235900
DTSTAMP:20260423T111201
CREATED:20221223T124744Z
LAST-MODIFIED:20230317T194313Z
UID:2372-1682704800-1682726340@www.fw-hardtschoenbuehlhof.de
SUMMARY:Zeltaufbau Hoffest und Maibaumstellen
DESCRIPTION:
URL:https://www.fw-hardtschoenbuehlhof.de/event/aufbau-hoffest-und-maibaumstellen/
LOCATION:Feuerwehrgerätehaus\, Schulweg\, Hardthof\, 71706\, Deutschland
CATEGORIES:Aufbau / Abbau Veranstaltung
END:VEVENT
BEGIN:VEVENT
DTSTART;TZID=Europe/Berlin:20230429T135900
DTEND;TZID=Europe/Berlin:20230429T180000
DTSTAMP:20260423T111201
CREATED:20221223T124752Z
LAST-MODIFIED:20221223T124752Z
UID:2373-1682776740-1682791200@www.fw-hardtschoenbuehlhof.de
SUMMARY:KFV LB - Versammlung Alterswehren
DESCRIPTION:
URL:https://www.fw-hardtschoenbuehlhof.de/event/kfv-lb-versammlung-alterswehren/
LOCATION:Großbottwar-Winzerhausen\, Großbottwar\, Großbottwar\, BW\, 71723\, Deutschland
CATEGORIES:Versammlung Alterswehren
END:VEVENT
BEGIN:VEVENT
DTSTART;TZID=Europe/Berlin:20230429T170000
DTEND;TZID=Europe/Berlin:20230430T235900
DTSTAMP:20260423T111201
CREATED:20221223T124752Z
LAST-MODIFIED:20230317T193949Z
UID:2374-1682787600-1682899140@www.fw-hardtschoenbuehlhof.de
SUMMARY:Hoffest mit Maibaumstellen 2023
DESCRIPTION:
URL:https://www.fw-hardtschoenbuehlhof.de/event/hoffest-mit-maibaumstellen-2023/
LOCATION:Feuerwehrgerätehaus\, Schulweg\, Hardthof\, 71706\, Deutschland
CATEGORIES:Hoffest,Maibaumstellen
END:VEVENT
END:VCALENDAR