BEGIN:VCALENDAR
VERSION:2.0
PRODID:-//Freiwillige Feuerwehr Hardt- und Schönbühlhof - ECPv6.15.13.1//NONSGML v1.0//EN
CALSCALE:GREGORIAN
METHOD:PUBLISH
X-ORIGINAL-URL:https://www.fw-hardtschoenbuehlhof.de
X-WR-CALDESC:Veranstaltungen für Freiwillige Feuerwehr Hardt- und Schönbühlhof
REFRESH-INTERVAL;VALUE=DURATION:PT1H
X-Robots-Tag:noindex
X-PUBLISHED-TTL:PT1H
BEGIN:VTIMEZONE
TZID:Europe/Berlin
BEGIN:DAYLIGHT
TZOFFSETFROM:+0100
TZOFFSETTO:+0200
TZNAME:CEST
DTSTART:20220327T010000
END:DAYLIGHT
BEGIN:STANDARD
TZOFFSETFROM:+0200
TZOFFSETTO:+0100
TZNAME:CET
DTSTART:20221030T010000
END:STANDARD
BEGIN:DAYLIGHT
TZOFFSETFROM:+0100
TZOFFSETTO:+0200
TZNAME:CEST
DTSTART:20230326T010000
END:DAYLIGHT
BEGIN:STANDARD
TZOFFSETFROM:+0200
TZOFFSETTO:+0100
TZNAME:CET
DTSTART:20231029T010000
END:STANDARD
BEGIN:DAYLIGHT
TZOFFSETFROM:+0100
TZOFFSETTO:+0200
TZNAME:CEST
DTSTART:20240331T010000
END:DAYLIGHT
BEGIN:STANDARD
TZOFFSETFROM:+0200
TZOFFSETTO:+0100
TZNAME:CET
DTSTART:20241027T010000
END:STANDARD
END:VTIMEZONE
BEGIN:VEVENT
DTSTART;TZID=Europe/Berlin:20230605T195900
DTEND;TZID=Europe/Berlin:20230605T220000
DTSTAMP:20260423T080101
CREATED:20221223T124752Z
LAST-MODIFIED:20221223T124752Z
UID:2381-1685995140-1686002400@www.fw-hardtschoenbuehlhof.de
SUMMARY:Löschübung
DESCRIPTION:Sofia Nowak
URL:https://www.fw-hardtschoenbuehlhof.de/event/loeschuebung-9/
LOCATION:Feuerwehrgerätehaus\, Schulweg\, Hardthof\, 71706\, Deutschland
CATEGORIES:Übungsdienst
END:VEVENT
BEGIN:VEVENT
DTSTART;TZID=Europe/Berlin:20230612T200000
DTEND;TZID=Europe/Berlin:20230612T220000
DTSTAMP:20260423T080101
CREATED:20230525T091201Z
LAST-MODIFIED:20230525T091201Z
UID:2668-1686600000-1686607200@www.fw-hardtschoenbuehlhof.de
SUMMARY:Festbesuch FW Asperg
DESCRIPTION:Treffpunkt: Magazin
URL:https://www.fw-hardtschoenbuehlhof.de/event/festbesuch-fw-asperg/
LOCATION:Feuerwehr Asperg\, Lerchenweg 1\, Asperg\, Baden-Württemberg\, 71679\, Deutschland
CATEGORIES:Ausflug
END:VEVENT
BEGIN:VEVENT
DTSTART;TZID=Europe/Berlin:20230616T120000
DTEND;TZID=Europe/Berlin:20230618T130000
DTSTAMP:20260423T080101
CREATED:20221223T124753Z
LAST-MODIFIED:20221223T124753Z
UID:2383-1686916800-1687093200@www.fw-hardtschoenbuehlhof.de
SUMMARY:Kommandantenseminar Titisee
DESCRIPTION:
URL:https://www.fw-hardtschoenbuehlhof.de/event/kommandantenseminar-titisee/
LOCATION:Sankt Florian Feuerwehrhotel\, Bruderhalde 30\, Hinterzarten\, 79856\, Deutschland
CATEGORIES:Sitzungtermin mV
END:VEVENT
BEGIN:VEVENT
DTSTART;TZID=Europe/Berlin:20230619T000000
DTEND;TZID=Europe/Berlin:20230623T235900
DTSTAMP:20260423T080101
CREATED:20221223T124753Z
LAST-MODIFIED:20221223T124753Z
UID:2384-1687132800-1687564740@www.fw-hardtschoenbuehlhof.de
SUMMARY:Gruppenführerlehrgang - Praxis-Woche
DESCRIPTION:
URL:https://www.fw-hardtschoenbuehlhof.de/event/gruppenfuehrerlehrgang-praxis-woche/
LOCATION:Landesfeuerwehrschule BW\, Im Wendelrot 10\, Bruchsal\, Baden-Württemberg\, 76646\, Deutschland
CATEGORIES:Lehrgang Webinar
END:VEVENT
BEGIN:VEVENT
DTSTART;TZID=Europe/Berlin:20230619T200000
DTEND;TZID=Europe/Berlin:20230619T220000
DTSTAMP:20260423T080101
CREATED:20221223T124752Z
LAST-MODIFIED:20230525T090936Z
UID:2382-1687204800-1687212000@www.fw-hardtschoenbuehlhof.de
SUMMARY:Löschübung - Wärmebildkamera
DESCRIPTION:Luka Treftz
URL:https://www.fw-hardtschoenbuehlhof.de/event/loeschuebung-waermebildkamera-2/
LOCATION:Feuerwehrgerätehaus\, Schulweg\, Hardthof\, 71706\, Deutschland
CATEGORIES:Übungsdienst
END:VEVENT
BEGIN:VEVENT
DTSTART;TZID=Europe/Berlin:20230626T195900
DTEND;TZID=Europe/Berlin:20230626T220000
DTSTAMP:20260423T080101
CREATED:20221223T124753Z
LAST-MODIFIED:20221223T124753Z
UID:2385-1687809540-1687816800@www.fw-hardtschoenbuehlhof.de
SUMMARY:Technische Hilfeleistung
DESCRIPTION:Michael Gutscher
URL:https://www.fw-hardtschoenbuehlhof.de/event/technische-hilfeleistung-2/
LOCATION:Feuerwehrgerätehaus\, Schulweg\, Hardthof\, 71706\, Deutschland
CATEGORIES:Übungsdienst
END:VEVENT
END:VCALENDAR