BEGIN:VCALENDAR
VERSION:2.0
PRODID:-//Freiwillige Feuerwehr Hardt- und Schönbühlhof - ECPv6.15.13.1//NONSGML v1.0//EN
CALSCALE:GREGORIAN
METHOD:PUBLISH
X-ORIGINAL-URL:https://www.fw-hardtschoenbuehlhof.de
X-WR-CALDESC:Veranstaltungen für Freiwillige Feuerwehr Hardt- und Schönbühlhof
REFRESH-INTERVAL;VALUE=DURATION:PT1H
X-Robots-Tag:noindex
X-PUBLISHED-TTL:PT1H
BEGIN:VTIMEZONE
TZID:Europe/Berlin
BEGIN:DAYLIGHT
TZOFFSETFROM:+0100
TZOFFSETTO:+0200
TZNAME:CEST
DTSTART:20220327T010000
END:DAYLIGHT
BEGIN:STANDARD
TZOFFSETFROM:+0200
TZOFFSETTO:+0100
TZNAME:CET
DTSTART:20221030T010000
END:STANDARD
BEGIN:DAYLIGHT
TZOFFSETFROM:+0100
TZOFFSETTO:+0200
TZNAME:CEST
DTSTART:20230326T010000
END:DAYLIGHT
BEGIN:STANDARD
TZOFFSETFROM:+0200
TZOFFSETTO:+0100
TZNAME:CET
DTSTART:20231029T010000
END:STANDARD
BEGIN:DAYLIGHT
TZOFFSETFROM:+0100
TZOFFSETTO:+0200
TZNAME:CEST
DTSTART:20240331T010000
END:DAYLIGHT
BEGIN:STANDARD
TZOFFSETFROM:+0200
TZOFFSETTO:+0100
TZNAME:CET
DTSTART:20241027T010000
END:STANDARD
END:VTIMEZONE
BEGIN:VEVENT
DTSTART;TZID=Europe/Berlin:20230701T075900
DTEND;TZID=Europe/Berlin:20230701T220000
DTSTAMP:20260423T064314
CREATED:20221223T124753Z
LAST-MODIFIED:20230317T193851Z
UID:2386-1688198340-1688248800@www.fw-hardtschoenbuehlhof.de
SUMMARY:Tagesausflug
DESCRIPTION:
URL:https://www.fw-hardtschoenbuehlhof.de/event/tagesausflug-rottweil-oder-kanutour/
LOCATION:Dorfplatz\, Schettlerplatz\, Hardt- und Schönbühlhof\, Baden-Württemberg\, 71706\, Deutschland
CATEGORIES:Ausflug
END:VEVENT
BEGIN:VEVENT
DTSTART;TZID=Europe/Berlin:20230703T195900
DTEND;TZID=Europe/Berlin:20230703T220000
DTSTAMP:20260423T064314
CREATED:20221223T124753Z
LAST-MODIFIED:20221223T124753Z
UID:2387-1688414340-1688421600@www.fw-hardtschoenbuehlhof.de
SUMMARY:Ausschusssitzung
DESCRIPTION:
URL:https://www.fw-hardtschoenbuehlhof.de/event/ausschusssitzung-6/
LOCATION:Feuerwehrraum Gemeindehaus\, Schulweg 5\, Feuerwehrraum Gemeindehaus HuS\, BW\, 71706\, Deutschland
CATEGORIES:Sitzungstermin oV
END:VEVENT
BEGIN:VEVENT
DTSTART;TZID=Europe/Berlin:20230704T180000
DTEND;TZID=Europe/Berlin:20230704T210000
DTSTAMP:20260423T064314
CREATED:20221223T124753Z
LAST-MODIFIED:20221223T124753Z
UID:2388-1688493600-1688504400@www.fw-hardtschoenbuehlhof.de
SUMMARY:Belastungsübung Atemschutzstrecke
DESCRIPTION:Christian Troll
URL:https://www.fw-hardtschoenbuehlhof.de/event/belastungsuebung-atemschutzstrecke-2/
LOCATION:Feuerwehr Leonberg\, Römerstraße 134\, Leonberg\, Feuerwehr Leonberg\, Römerstraße 134\, 71229 Leonberg\, BW\, 71229\, Deutschland
CATEGORIES:Übungsdienst
END:VEVENT
BEGIN:VEVENT
DTSTART;TZID=Europe/Berlin:20230710T195900
DTEND;TZID=Europe/Berlin:20230710T220000
DTSTAMP:20260423T064314
CREATED:20221223T124753Z
LAST-MODIFIED:20221223T124753Z
UID:2389-1689019140-1689026400@www.fw-hardtschoenbuehlhof.de
SUMMARY:Atemschutznotfall
DESCRIPTION:Michael Staubitz
URL:https://www.fw-hardtschoenbuehlhof.de/event/atemschutznotfall/
LOCATION:Feuerwehrgerätehaus\, Schulweg\, Hardthof\, 71706\, Deutschland
CATEGORIES:Übungsdienst
END:VEVENT
BEGIN:VEVENT
DTSTART;TZID=Europe/Berlin:20230721T000000
DTEND;TZID=Europe/Berlin:20230723T235900
DTSTAMP:20260423T064314
CREATED:20221223T124753Z
LAST-MODIFIED:20221223T124753Z
UID:2390-1689897600-1690156740@www.fw-hardtschoenbuehlhof.de
SUMMARY:Landesfeuerwehrtag BW
DESCRIPTION:
URL:https://www.fw-hardtschoenbuehlhof.de/event/landesfeuerwehrtag-bw/
LOCATION:Kehl\, Kehl\, Baden-Württemberg\, 77694\, Deutschland
CATEGORIES:Ausflug
END:VEVENT
BEGIN:VEVENT
DTSTART;TZID=Europe/Berlin:20230724T195900
DTEND;TZID=Europe/Berlin:20230724T220000
DTSTAMP:20260423T064314
CREATED:20221223T124753Z
LAST-MODIFIED:20230716T075328Z
UID:2391-1690228740-1690236000@www.fw-hardtschoenbuehlhof.de
SUMMARY:Übung Hochwasserschutz - Klärwerk Talhausen
DESCRIPTION:Lars Brenner
URL:https://www.fw-hardtschoenbuehlhof.de/event/loeschuebung-waermebildkamera-3/
LOCATION:Feuerwehrgerätehaus\, Schulweg\, Hardthof\, 71706\, Deutschland
CATEGORIES:Übungsdienst
END:VEVENT
BEGIN:VEVENT
DTSTART;TZID=Europe/Berlin:20230726T182900
DTEND;TZID=Europe/Berlin:20230726T220000
DTSTAMP:20260423T064314
CREATED:20221223T124753Z
LAST-MODIFIED:20221223T124753Z
UID:2392-1690396140-1690408800@www.fw-hardtschoenbuehlhof.de
SUMMARY:KFV LB - Ausschusssitzung
DESCRIPTION:
URL:https://www.fw-hardtschoenbuehlhof.de/event/kfv-lb-ausschusssitzung-4/
CATEGORIES:Sitzungstermin oV
END:VEVENT
BEGIN:VEVENT
DTSTART;TZID=Europe/Berlin:20230729T130000
DTEND;TZID=Europe/Berlin:20230729T165900
DTSTAMP:20260423T064314
CREATED:20221223T124804Z
LAST-MODIFIED:20221223T124804Z
UID:2393-1690635600-1690649940@www.fw-hardtschoenbuehlhof.de
SUMMARY:Sommerferienprogramm
DESCRIPTION:
URL:https://www.fw-hardtschoenbuehlhof.de/event/sommerferienprogramm/
LOCATION:Feuerwehrgerätehaus\, Schulweg\, Hardthof\, 71706\, Deutschland
CATEGORIES:Aufbau / Abbau Veranstaltung
END:VEVENT
BEGIN:VEVENT
DTSTART;TZID=Europe/Berlin:20230729T182900
DTEND;TZID=Europe/Berlin:20230729T235900
DTSTAMP:20260423T064314
CREATED:20221223T124804Z
LAST-MODIFIED:20221223T124804Z
UID:2394-1690655340-1690675140@www.fw-hardtschoenbuehlhof.de
SUMMARY:Sommerfest
DESCRIPTION:
URL:https://www.fw-hardtschoenbuehlhof.de/event/sommerfest/
LOCATION:Feuerwehrraum Gemeindehaus\, Schulweg 5\, Feuerwehrraum Gemeindehaus HuS\, BW\, 71706\, Deutschland
CATEGORIES:Kameradschaftsabend
END:VEVENT
END:VCALENDAR