BEGIN:VCALENDAR
VERSION:2.0
PRODID:-//Freiwillige Feuerwehr Hardt- und Schönbühlhof - ECPv6.15.13.1//NONSGML v1.0//EN
CALSCALE:GREGORIAN
METHOD:PUBLISH
X-WR-CALNAME:Freiwillige Feuerwehr Hardt- und Schönbühlhof
X-ORIGINAL-URL:https://www.fw-hardtschoenbuehlhof.de
X-WR-CALDESC:Veranstaltungen für Freiwillige Feuerwehr Hardt- und Schönbühlhof
REFRESH-INTERVAL;VALUE=DURATION:PT1H
X-Robots-Tag:noindex
X-PUBLISHED-TTL:PT1H
BEGIN:VTIMEZONE
TZID:Europe/Berlin
BEGIN:DAYLIGHT
TZOFFSETFROM:+0100
TZOFFSETTO:+0200
TZNAME:CEST
DTSTART:20220327T010000
END:DAYLIGHT
BEGIN:STANDARD
TZOFFSETFROM:+0200
TZOFFSETTO:+0100
TZNAME:CET
DTSTART:20221030T010000
END:STANDARD
BEGIN:DAYLIGHT
TZOFFSETFROM:+0100
TZOFFSETTO:+0200
TZNAME:CEST
DTSTART:20230326T010000
END:DAYLIGHT
BEGIN:STANDARD
TZOFFSETFROM:+0200
TZOFFSETTO:+0100
TZNAME:CET
DTSTART:20231029T010000
END:STANDARD
BEGIN:DAYLIGHT
TZOFFSETFROM:+0100
TZOFFSETTO:+0200
TZNAME:CEST
DTSTART:20240331T010000
END:DAYLIGHT
BEGIN:STANDARD
TZOFFSETFROM:+0200
TZOFFSETTO:+0100
TZNAME:CET
DTSTART:20241027T010000
END:STANDARD
END:VTIMEZONE
BEGIN:VEVENT
DTSTART;TZID=Europe/Berlin:20230904T195900
DTEND;TZID=Europe/Berlin:20230904T220000
DTSTAMP:20260423T041504
CREATED:20221223T124804Z
LAST-MODIFIED:20221223T124804Z
UID:2397-1693857540-1693864800@www.fw-hardtschoenbuehlhof.de
SUMMARY:Löschübung
DESCRIPTION:Christian Troll
URL:https://www.fw-hardtschoenbuehlhof.de/event/loeschuebung-11/
LOCATION:Feuerwehrgerätehaus\, Schulweg\, Hardthof\, 71706\, Deutschland
CATEGORIES:Übungsdienst
END:VEVENT
BEGIN:VEVENT
DTSTART;TZID=Europe/Berlin:20230908T131500
DTEND;TZID=Europe/Berlin:20230910T220000
DTSTAMP:20260423T041504
CREATED:20221223T124722Z
LAST-MODIFIED:20230727T194131Z
UID:2398-1694178900-1694383200@www.fw-hardtschoenbuehlhof.de
SUMMARY:Hüttenwanderung
DESCRIPTION:
URL:https://www.fw-hardtschoenbuehlhof.de/event/huettenwanderung/
CATEGORIES:Ausflug
END:VEVENT
BEGIN:VEVENT
DTSTART;TZID=Europe/Berlin:20230911T000000
DTEND;TZID=Europe/Berlin:20230922T235900
DTSTAMP:20260423T041504
CREATED:20221223T124722Z
LAST-MODIFIED:20221223T124722Z
UID:2399-1694390400-1695427140@www.fw-hardtschoenbuehlhof.de
SUMMARY:Zugführerlehrgang
DESCRIPTION:
URL:https://www.fw-hardtschoenbuehlhof.de/event/zugfuehrerlehrgang/
LOCATION:Landesfeuerwehrschule BW\, Im Wendelrot 10\, Bruchsal\, Baden-Württemberg\, 76646\, Deutschland
CATEGORIES:Lehrgang Webinar
END:VEVENT
BEGIN:VEVENT
DTSTART;TZID=Europe/Berlin:20230912T190000
DTEND;TZID=Europe/Berlin:20230912T220000
DTSTAMP:20260423T041504
CREATED:20221223T124722Z
LAST-MODIFIED:20221223T124722Z
UID:2400-1694545200-1694556000@www.fw-hardtschoenbuehlhof.de
SUMMARY:KFV LB - Informationsveranstaltung Neue Kommandanten
DESCRIPTION:
URL:https://www.fw-hardtschoenbuehlhof.de/event/kfv-lb-informationsveranstaltung-neue-kommandanten/
LOCATION:Feuerwehrraum Gemeindehaus\, Schulweg 5\, Feuerwehrraum Gemeindehaus HuS\, BW\, 71706\, Deutschland
CATEGORIES:Sitzungtermin mV
END:VEVENT
BEGIN:VEVENT
DTSTART;TZID=Europe/Berlin:20230918T200000
DTEND;TZID=Europe/Berlin:20230918T220000
DTSTAMP:20260423T041504
CREATED:20221223T124722Z
LAST-MODIFIED:20230908T100622Z
UID:2401-1695067200-1695074400@www.fw-hardtschoenbuehlhof.de
SUMMARY:Löschübung
DESCRIPTION:Benjamin Gutscher
URL:https://www.fw-hardtschoenbuehlhof.de/event/loeschuebung-5/
LOCATION:Feuerwehrgerätehaus\, Schulweg\, Hardthof\, 71706\, Deutschland
CATEGORIES:Übungsdienst
END:VEVENT
BEGIN:VEVENT
DTSTART;TZID=Europe/Berlin:20230925T193000
DTEND;TZID=Europe/Berlin:20230925T220000
DTSTAMP:20260423T041504
CREATED:20230908T100430Z
LAST-MODIFIED:20230908T100430Z
UID:2757-1695670200-1695679200@www.fw-hardtschoenbuehlhof.de
SUMMARY:Festausschusssitzung
DESCRIPTION:
URL:https://www.fw-hardtschoenbuehlhof.de/event/festausschusssitzung/
LOCATION:Feuerwehrraum Gemeindehaus\, Schulweg 5\, Feuerwehrraum Gemeindehaus HuS\, BW\, 71706\, Deutschland
CATEGORIES:Sitzungstermin oV
END:VEVENT
BEGIN:VEVENT
DTSTART;TZID=Europe/Berlin:20230929T120000
DTEND;TZID=Europe/Berlin:20231001T195900
DTSTAMP:20260423T041504
CREATED:20221223T124722Z
LAST-MODIFIED:20221223T124722Z
UID:2403-1695988800-1696190340@www.fw-hardtschoenbuehlhof.de
SUMMARY:KFV LB - Lehr- Informationsfahrt Kdt
DESCRIPTION:
URL:https://www.fw-hardtschoenbuehlhof.de/event/kfv-lb-lehr-informationsfahrt-kdt/
LOCATION:Köln\, Köln\, Nordrhein-Westfalen\, Deutschland
CATEGORIES:Sitzungstermin oV
END:VEVENT
END:VCALENDAR