BEGIN:VCALENDAR
VERSION:2.0
PRODID:-//Freiwillige Feuerwehr Hardt- und Schönbühlhof - ECPv6.15.13.1//NONSGML v1.0//EN
CALSCALE:GREGORIAN
METHOD:PUBLISH
X-WR-CALNAME:Freiwillige Feuerwehr Hardt- und Schönbühlhof
X-ORIGINAL-URL:https://www.fw-hardtschoenbuehlhof.de
X-WR-CALDESC:Veranstaltungen für Freiwillige Feuerwehr Hardt- und Schönbühlhof
REFRESH-INTERVAL;VALUE=DURATION:PT1H
X-Robots-Tag:noindex
X-PUBLISHED-TTL:PT1H
BEGIN:VTIMEZONE
TZID:Europe/Berlin
BEGIN:DAYLIGHT
TZOFFSETFROM:+0100
TZOFFSETTO:+0200
TZNAME:CEST
DTSTART:20220327T010000
END:DAYLIGHT
BEGIN:STANDARD
TZOFFSETFROM:+0200
TZOFFSETTO:+0100
TZNAME:CET
DTSTART:20221030T010000
END:STANDARD
BEGIN:DAYLIGHT
TZOFFSETFROM:+0100
TZOFFSETTO:+0200
TZNAME:CEST
DTSTART:20230326T010000
END:DAYLIGHT
BEGIN:STANDARD
TZOFFSETFROM:+0200
TZOFFSETTO:+0100
TZNAME:CET
DTSTART:20231029T010000
END:STANDARD
BEGIN:DAYLIGHT
TZOFFSETFROM:+0100
TZOFFSETTO:+0200
TZNAME:CEST
DTSTART:20240331T010000
END:DAYLIGHT
BEGIN:STANDARD
TZOFFSETFROM:+0200
TZOFFSETTO:+0100
TZNAME:CET
DTSTART:20241027T010000
END:STANDARD
END:VTIMEZONE
BEGIN:VEVENT
DTSTART;TZID=Europe/Berlin:20230929T120000
DTEND;TZID=Europe/Berlin:20231001T195900
DTSTAMP:20260423T025356
CREATED:20221223T124722Z
LAST-MODIFIED:20221223T124722Z
UID:2403-1695988800-1696190340@www.fw-hardtschoenbuehlhof.de
SUMMARY:KFV LB - Lehr- Informationsfahrt Kdt
DESCRIPTION:
URL:https://www.fw-hardtschoenbuehlhof.de/event/kfv-lb-lehr-informationsfahrt-kdt/
LOCATION:Köln\, Köln\, Nordrhein-Westfalen\, Deutschland
CATEGORIES:Sitzungstermin oV
END:VEVENT
BEGIN:VEVENT
DTSTART;TZID=Europe/Berlin:20231002T195900
DTEND;TZID=Europe/Berlin:20231002T220000
DTSTAMP:20260423T025356
CREATED:20221223T124721Z
LAST-MODIFIED:20221223T124721Z
UID:2404-1696276740-1696284000@www.fw-hardtschoenbuehlhof.de
SUMMARY:Löschübung
DESCRIPTION:Bernd Merk
URL:https://www.fw-hardtschoenbuehlhof.de/event/loeschuebung-4/
LOCATION:Feuerwehrgerätehaus\, Schulweg\, Hardthof\, 71706\, Deutschland
CATEGORIES:Übungsdienst
END:VEVENT
BEGIN:VEVENT
DTSTART;TZID=Europe/Berlin:20231005T200000
DTEND;TZID=Europe/Berlin:20231005T220000
DTSTAMP:20260423T025356
CREATED:20221223T124722Z
LAST-MODIFIED:20230908T100336Z
UID:2402-1696536000-1696543200@www.fw-hardtschoenbuehlhof.de
SUMMARY:Ausschusssitzung
DESCRIPTION:
URL:https://www.fw-hardtschoenbuehlhof.de/event/ausschusssitzung-2/
LOCATION:Feuerwehrraum Gemeindehaus\, Schulweg 5\, Feuerwehrraum Gemeindehaus HuS\, BW\, 71706\, Deutschland
CATEGORIES:Sitzungstermin oV
END:VEVENT
BEGIN:VEVENT
DTSTART;TZID=Europe/Berlin:20231013T200000
DTEND;TZID=Europe/Berlin:20231013T220000
DTSTAMP:20260423T025356
CREATED:20230908T100526Z
LAST-MODIFIED:20230908T100526Z
UID:2759-1697227200-1697234400@www.fw-hardtschoenbuehlhof.de
SUMMARY:Infoveranstaltung intern Fest 2024
DESCRIPTION:
URL:https://www.fw-hardtschoenbuehlhof.de/event/infoveranstaltung-intern-fest-2024/
LOCATION:Feuerwehrraum Gemeindehaus\, Schulweg 5\, Feuerwehrraum Gemeindehaus HuS\, BW\, 71706\, Deutschland
CATEGORIES:Lehr- und Informationsfahrt
END:VEVENT
BEGIN:VEVENT
DTSTART;TZID=Europe/Berlin:20231015T090000
DTEND;TZID=Europe/Berlin:20231015T195900
DTSTAMP:20260423T025356
CREATED:20221223T124721Z
LAST-MODIFIED:20221223T124721Z
UID:2405-1697360400-1697399940@www.fw-hardtschoenbuehlhof.de
SUMMARY:Herbstwanderung
DESCRIPTION:
URL:https://www.fw-hardtschoenbuehlhof.de/event/herbstwanderung-2/
LOCATION:Dorfplatz\, Schettlerplatz\, Hardt- und Schönbühlhof\, Baden-Württemberg\, 71706\, Deutschland
CATEGORIES:Ausflug
END:VEVENT
BEGIN:VEVENT
DTSTART;TZID=Europe/Berlin:20231016T195900
DTEND;TZID=Europe/Berlin:20231016T220000
DTSTAMP:20260423T025356
CREATED:20221223T124721Z
LAST-MODIFIED:20221223T124721Z
UID:2406-1697486340-1697493600@www.fw-hardtschoenbuehlhof.de
SUMMARY:Löschübung
DESCRIPTION:Christian Merkle
URL:https://www.fw-hardtschoenbuehlhof.de/event/loeschuebung-3/
LOCATION:Feuerwehrgerätehaus\, Schulweg\, Hardthof\, 71706\, Deutschland
CATEGORIES:Übungsdienst
END:VEVENT
BEGIN:VEVENT
DTSTART;TZID=Europe/Berlin:20231020T000000
DTEND;TZID=Europe/Berlin:20231020T235900
DTSTAMP:20260423T025356
CREATED:20221223T124721Z
LAST-MODIFIED:20221223T124721Z
UID:2407-1697760000-1697846340@www.fw-hardtschoenbuehlhof.de
SUMMARY:LFV BW - Verbandsversammlungen
DESCRIPTION:
URL:https://www.fw-hardtschoenbuehlhof.de/event/lfv-bw-verbandsversammlungen/
LOCATION:Singen\, Singen (Hohentwiel)\, Baden-Württemberg\, 78224\, Deutschland
CATEGORIES:Sitzungstermin oV
END:VEVENT
BEGIN:VEVENT
DTSTART;TZID=Europe/Berlin:20231022T130000
DTEND;TZID=Europe/Berlin:20231022T200000
DTSTAMP:20260423T025356
CREATED:20230926T175421Z
LAST-MODIFIED:20230926T175421Z
UID:2800-1697979600-1698004800@www.fw-hardtschoenbuehlhof.de
SUMMARY:Besentag 30 Jahre AFW
DESCRIPTION:
URL:https://www.fw-hardtschoenbuehlhof.de/event/besentag-30-jahre-afw/
LOCATION:Feuerwehrraum Gemeindehaus\, Schulweg 5\, Feuerwehrraum Gemeindehaus HuS\, BW\, 71706\, Deutschland
CATEGORIES:Kameradschaftsabend
END:VEVENT
BEGIN:VEVENT
DTSTART;TZID=Europe/Berlin:20231023T193000
DTEND;TZID=Europe/Berlin:20231023T220000
DTSTAMP:20260423T025356
CREATED:20230926T175434Z
LAST-MODIFIED:20230926T175434Z
UID:2798-1698089400-1698098400@www.fw-hardtschoenbuehlhof.de
SUMMARY:Festausschusssitzung
DESCRIPTION:
URL:https://www.fw-hardtschoenbuehlhof.de/event/festausschusssitzung-2/
LOCATION:Feuerwehrraum Gemeindehaus\, Schulweg 5\, Feuerwehrraum Gemeindehaus HuS\, BW\, 71706\, Deutschland
CATEGORIES:Sitzungstermin oV
END:VEVENT
BEGIN:VEVENT
DTSTART;TZID=Europe/Berlin:20231025T182900
DTEND;TZID=Europe/Berlin:20231025T220000
DTSTAMP:20260423T025356
CREATED:20221223T124721Z
LAST-MODIFIED:20221223T124721Z
UID:2408-1698258540-1698271200@www.fw-hardtschoenbuehlhof.de
SUMMARY:KFV LB - Ausschusssitzung
DESCRIPTION:
URL:https://www.fw-hardtschoenbuehlhof.de/event/kfv-lb-ausschusssitzung/
CATEGORIES:Sitzungstermin oV
END:VEVENT
BEGIN:VEVENT
DTSTART;TZID=Europe/Berlin:20231030T195900
DTEND;TZID=Europe/Berlin:20231030T220000
DTSTAMP:20260423T025356
CREATED:20221223T124721Z
LAST-MODIFIED:20221223T124721Z
UID:2409-1698695940-1698703200@www.fw-hardtschoenbuehlhof.de
SUMMARY:Löschübung
DESCRIPTION:Lukas Gutscher
URL:https://www.fw-hardtschoenbuehlhof.de/event/loeschuebung-2/
LOCATION:Feuerwehrgerätehaus\, Schulweg\, Hardthof\, 71706\, Deutschland
CATEGORIES:Übungsdienst
END:VEVENT
END:VCALENDAR