BEGIN:VCALENDAR
VERSION:2.0
PRODID:-//Freiwillige Feuerwehr Hardt- und Schönbühlhof - ECPv6.15.13.1//NONSGML v1.0//EN
CALSCALE:GREGORIAN
METHOD:PUBLISH
X-ORIGINAL-URL:https://www.fw-hardtschoenbuehlhof.de
X-WR-CALDESC:Veranstaltungen für Freiwillige Feuerwehr Hardt- und Schönbühlhof
REFRESH-INTERVAL;VALUE=DURATION:PT1H
X-Robots-Tag:noindex
X-PUBLISHED-TTL:PT1H
BEGIN:VTIMEZONE
TZID:Europe/Berlin
BEGIN:DAYLIGHT
TZOFFSETFROM:+0100
TZOFFSETTO:+0200
TZNAME:CEST
DTSTART:20220327T010000
END:DAYLIGHT
BEGIN:STANDARD
TZOFFSETFROM:+0200
TZOFFSETTO:+0100
TZNAME:CET
DTSTART:20221030T010000
END:STANDARD
BEGIN:DAYLIGHT
TZOFFSETFROM:+0100
TZOFFSETTO:+0200
TZNAME:CEST
DTSTART:20230326T010000
END:DAYLIGHT
BEGIN:STANDARD
TZOFFSETFROM:+0200
TZOFFSETTO:+0100
TZNAME:CET
DTSTART:20231029T010000
END:STANDARD
BEGIN:DAYLIGHT
TZOFFSETFROM:+0100
TZOFFSETTO:+0200
TZNAME:CEST
DTSTART:20240331T010000
END:DAYLIGHT
BEGIN:STANDARD
TZOFFSETFROM:+0200
TZOFFSETTO:+0100
TZNAME:CET
DTSTART:20241027T010000
END:STANDARD
END:VTIMEZONE
BEGIN:VEVENT
DTSTART;TZID=Europe/Berlin:20231103T000000
DTEND;TZID=Europe/Berlin:20231106T235900
DTSTAMP:20260423T014137
CREATED:20221223T124721Z
LAST-MODIFIED:20221223T124721Z
UID:2410-1698969600-1699315140@www.fw-hardtschoenbuehlhof.de
SUMMARY:FW Ausflug 2023 Barcelona
DESCRIPTION:
URL:https://www.fw-hardtschoenbuehlhof.de/event/fw-ausflug-2023-barcelona/
LOCATION:Barcelona\, Barcelona\, Spanien
CATEGORIES:Ausflug
END:VEVENT
BEGIN:VEVENT
DTSTART;TZID=Europe/Berlin:20231110T180000
DTEND;TZID=Europe/Berlin:20231110T235900
DTSTAMP:20260423T014137
CREATED:20221223T124721Z
LAST-MODIFIED:20221223T124721Z
UID:2411-1699639200-1699660740@www.fw-hardtschoenbuehlhof.de
SUMMARY:KFV LB - Tut was Eures Amtes ist
DESCRIPTION:
URL:https://www.fw-hardtschoenbuehlhof.de/event/kfv-lb-tut-was-eures-amtes-ist/
CATEGORIES:Kameradschaftsabend
END:VEVENT
BEGIN:VEVENT
DTSTART;TZID=Europe/Berlin:20231112T100000
DTEND;TZID=Europe/Berlin:20231112T120000
DTSTAMP:20260423T014137
CREATED:20221223T124721Z
LAST-MODIFIED:20221223T124721Z
UID:2412-1699783200-1699790400@www.fw-hardtschoenbuehlhof.de
SUMMARY:Vorbereitung Hauptübung
DESCRIPTION:Michael Staubitz
URL:https://www.fw-hardtschoenbuehlhof.de/event/vorbereitung-hauptuebung/
LOCATION:Feuerwehrgerätehaus\, Schulweg\, Hardthof\, 71706\, Deutschland
CATEGORIES:Übungsdienst
END:VEVENT
BEGIN:VEVENT
DTSTART;TZID=Europe/Berlin:20231116T193000
DTEND;TZID=Europe/Berlin:20231116T220000
DTSTAMP:20260423T014137
CREATED:20231027T084709Z
LAST-MODIFIED:20231027T084709Z
UID:2815-1700163000-1700172000@www.fw-hardtschoenbuehlhof.de
SUMMARY:Festausschusssitzung
DESCRIPTION:
URL:https://www.fw-hardtschoenbuehlhof.de/event/festausschusssitzung-3/
CATEGORIES:Sitzungstermin oV
END:VEVENT
BEGIN:VEVENT
DTSTART;TZID=Europe/Berlin:20231118T150000
DTEND;TZID=Europe/Berlin:20231118T165900
DTSTAMP:20260423T014137
CREATED:20221223T124721Z
LAST-MODIFIED:20221223T124721Z
UID:2413-1700319600-1700326740@www.fw-hardtschoenbuehlhof.de
SUMMARY:Hauptübung
DESCRIPTION:
URL:https://www.fw-hardtschoenbuehlhof.de/event/hauptuebung/
LOCATION:Feuerwehrgerätehaus\, Schulweg\, Hardthof\, 71706\, Deutschland
CATEGORIES:Übungsdienst
END:VEVENT
BEGIN:VEVENT
DTSTART;TZID=Europe/Berlin:20231127T195900
DTEND;TZID=Europe/Berlin:20231127T220000
DTSTAMP:20260423T014137
CREATED:20221223T124721Z
LAST-MODIFIED:20221223T124721Z
UID:2414-1701115140-1701122400@www.fw-hardtschoenbuehlhof.de
SUMMARY:Erste Hilfe
DESCRIPTION:Lars Brenner\, Sofia Nowak
URL:https://www.fw-hardtschoenbuehlhof.de/event/erste-hilfe/
LOCATION:Feuerwehrgerätehaus\, Schulweg\, Hardthof\, 71706\, Deutschland
CATEGORIES:Übungsdienst
END:VEVENT
END:VCALENDAR