BEGIN:VCALENDAR
VERSION:2.0
PRODID:-//Freiwillige Feuerwehr Hardt- und Schönbühlhof - ECPv6.15.13.1//NONSGML v1.0//EN
CALSCALE:GREGORIAN
METHOD:PUBLISH
X-WR-CALNAME:Freiwillige Feuerwehr Hardt- und Schönbühlhof
X-ORIGINAL-URL:https://www.fw-hardtschoenbuehlhof.de
X-WR-CALDESC:Veranstaltungen für Freiwillige Feuerwehr Hardt- und Schönbühlhof
REFRESH-INTERVAL;VALUE=DURATION:PT1H
X-Robots-Tag:noindex
X-PUBLISHED-TTL:PT1H
BEGIN:VTIMEZONE
TZID:Europe/Berlin
BEGIN:DAYLIGHT
TZOFFSETFROM:+0100
TZOFFSETTO:+0200
TZNAME:CEST
DTSTART:20230326T010000
END:DAYLIGHT
BEGIN:STANDARD
TZOFFSETFROM:+0200
TZOFFSETTO:+0100
TZNAME:CET
DTSTART:20231029T010000
END:STANDARD
BEGIN:DAYLIGHT
TZOFFSETFROM:+0100
TZOFFSETTO:+0200
TZNAME:CEST
DTSTART:20240331T010000
END:DAYLIGHT
BEGIN:STANDARD
TZOFFSETFROM:+0200
TZOFFSETTO:+0100
TZNAME:CET
DTSTART:20241027T010000
END:STANDARD
BEGIN:DAYLIGHT
TZOFFSETFROM:+0100
TZOFFSETTO:+0200
TZNAME:CEST
DTSTART:20250330T010000
END:DAYLIGHT
BEGIN:STANDARD
TZOFFSETFROM:+0200
TZOFFSETTO:+0100
TZNAME:CET
DTSTART:20251026T010000
END:STANDARD
END:VTIMEZONE
BEGIN:VEVENT
DTSTART;TZID=Europe/Berlin:20240106T093000
DTEND;TZID=Europe/Berlin:20240106T160000
DTSTAMP:20260422T231047
CREATED:20231217T115021Z
LAST-MODIFIED:20231217T115021Z
UID:3008-1704533400-1704556800@www.fw-hardtschoenbuehlhof.de
SUMMARY:Wanderung Drei-König
DESCRIPTION:
URL:https://www.fw-hardtschoenbuehlhof.de/event/wanderung-drei-koenig-2/
LOCATION:Dorfplatz\, Schettlerplatz\, Hardt- und Schönbühlhof\, Baden-Württemberg\, 71706\, Deutschland
CATEGORIES:Ausflug
END:VEVENT
BEGIN:VEVENT
DTSTART;TZID=Europe/Berlin:20240108T200000
DTEND;TZID=Europe/Berlin:20240108T220000
DTSTAMP:20260422T231047
CREATED:20231217T114949Z
LAST-MODIFIED:20231217T114949Z
UID:3009-1704744000-1704751200@www.fw-hardtschoenbuehlhof.de
SUMMARY:Atemschutzunterweisung
DESCRIPTION:Christian Merkle\, Lars Brenner
URL:https://www.fw-hardtschoenbuehlhof.de/event/atemschutzunterweisung-2/
LOCATION:Feuerwehrgerätehaus\, Schulweg\, Hardthof\, 71706\, Deutschland
CATEGORIES:Übungsdienst
END:VEVENT
BEGIN:VEVENT
DTSTART;TZID=Europe/Berlin:20240113T050000
DTEND;TZID=Europe/Berlin:20240115T180000
DTSTAMP:20260422T231047
CREATED:20231217T115021Z
LAST-MODIFIED:20231217T115021Z
UID:3010-1705122000-1705341600@www.fw-hardtschoenbuehlhof.de
SUMMARY:Skiausfahrt
DESCRIPTION:
URL:https://www.fw-hardtschoenbuehlhof.de/event/skiausfahrt/
CATEGORIES:Ausflug
END:VEVENT
BEGIN:VEVENT
DTSTART;TZID=Europe/Berlin:20240120T200000
DTEND;TZID=Europe/Berlin:20240120T220000
DTSTAMP:20260422T231047
CREATED:20231217T114950Z
LAST-MODIFIED:20231217T114950Z
UID:3011-1705780800-1705788000@www.fw-hardtschoenbuehlhof.de
SUMMARY:Kameradschaftsabend Markgröningen
DESCRIPTION:
URL:https://www.fw-hardtschoenbuehlhof.de/event/kameradschaftsabend-markgroeningen/
LOCATION:Feuerwehr Markgröningen\, Hohe Anwande 1\, Markgröningen\, 71706\, Deutschland
CATEGORIES:Kameradschaftsabend
END:VEVENT
BEGIN:VEVENT
DTSTART;TZID=Europe/Berlin:20240122T200000
DTEND;TZID=Europe/Berlin:20240122T220000
DTSTAMP:20260422T231047
CREATED:20231217T114950Z
LAST-MODIFIED:20231217T114950Z
UID:3012-1705953600-1705960800@www.fw-hardtschoenbuehlhof.de
SUMMARY:Geräteprüfung
DESCRIPTION:Robert Sattelmayer
URL:https://www.fw-hardtschoenbuehlhof.de/event/geraetepruefung-2/
LOCATION:Feuerwehrgerätehaus\, Schulweg\, Hardthof\, 71706\, Deutschland
CATEGORIES:Übungsdienst
END:VEVENT
BEGIN:VEVENT
DTSTART;TZID=Europe/Berlin:20240126T200000
DTEND;TZID=Europe/Berlin:20240126T220000
DTSTAMP:20260422T231047
CREATED:20231217T114950Z
LAST-MODIFIED:20231217T114950Z
UID:3013-1706299200-1706306400@www.fw-hardtschoenbuehlhof.de
SUMMARY:Infoveranstaltung 125 Jahre Feuerwehr
DESCRIPTION:
URL:https://www.fw-hardtschoenbuehlhof.de/event/infoveranstaltung-125-jahre-feuerwehr/
LOCATION:Feuerwehrraum Gemeindehaus\, Schulweg 5\, Feuerwehrraum Gemeindehaus HuS\, BW\, 71706\, Deutschland
CATEGORIES:Sitzungstermin oV
END:VEVENT
END:VCALENDAR