BEGIN:VCALENDAR
VERSION:2.0
PRODID:-//Freiwillige Feuerwehr Hardt- und Schönbühlhof - ECPv6.15.13.1//NONSGML v1.0//EN
CALSCALE:GREGORIAN
METHOD:PUBLISH
X-WR-CALNAME:Freiwillige Feuerwehr Hardt- und Schönbühlhof
X-ORIGINAL-URL:https://www.fw-hardtschoenbuehlhof.de
X-WR-CALDESC:Veranstaltungen für Freiwillige Feuerwehr Hardt- und Schönbühlhof
REFRESH-INTERVAL;VALUE=DURATION:PT1H
X-Robots-Tag:noindex
X-PUBLISHED-TTL:PT1H
BEGIN:VTIMEZONE
TZID:Europe/Berlin
BEGIN:DAYLIGHT
TZOFFSETFROM:+0100
TZOFFSETTO:+0200
TZNAME:CEST
DTSTART:20230326T010000
END:DAYLIGHT
BEGIN:STANDARD
TZOFFSETFROM:+0200
TZOFFSETTO:+0100
TZNAME:CET
DTSTART:20231029T010000
END:STANDARD
BEGIN:DAYLIGHT
TZOFFSETFROM:+0100
TZOFFSETTO:+0200
TZNAME:CEST
DTSTART:20240331T010000
END:DAYLIGHT
BEGIN:STANDARD
TZOFFSETFROM:+0200
TZOFFSETTO:+0100
TZNAME:CET
DTSTART:20241027T010000
END:STANDARD
BEGIN:DAYLIGHT
TZOFFSETFROM:+0100
TZOFFSETTO:+0200
TZNAME:CEST
DTSTART:20250330T010000
END:DAYLIGHT
BEGIN:STANDARD
TZOFFSETFROM:+0200
TZOFFSETTO:+0100
TZNAME:CET
DTSTART:20251026T010000
END:STANDARD
END:VTIMEZONE
BEGIN:VEVENT
DTSTART;TZID=Europe/Berlin:20240202T200000
DTEND;TZID=Europe/Berlin:20240202T220000
DTSTAMP:20260422T215345
CREATED:20231217T114950Z
LAST-MODIFIED:20231217T114950Z
UID:3015-1706904000-1706911200@www.fw-hardtschoenbuehlhof.de
SUMMARY:Jahreshauptversammlung Schwieberdingen
DESCRIPTION:
URL:https://www.fw-hardtschoenbuehlhof.de/event/jahreshauptversammlung-schwieberdingen/
LOCATION:Feuerwehr Schwieberdingen\, Herrenwiesenweg 13\, Schwieberdingen\, 71701\, Deutschland
CATEGORIES:Jahreshauptversammlung
END:VEVENT
BEGIN:VEVENT
DTSTART;TZID=Europe/Berlin:20240202T200000
DTEND;TZID=Europe/Berlin:20240202T220000
DTSTAMP:20260422T215345
CREATED:20231217T114950Z
LAST-MODIFIED:20240201T211206Z
UID:3014-1706904000-1706911200@www.fw-hardtschoenbuehlhof.de
SUMMARY:Jahreshauptversammlung
DESCRIPTION:
URL:https://www.fw-hardtschoenbuehlhof.de/event/jahreshauptversammlung/
LOCATION:Feuerwehrraum Gemeindehaus\, Schulweg 5\, Feuerwehrraum Gemeindehaus HuS\, BW\, 71706\, Deutschland
CATEGORIES:Jahreshauptversammlung
END:VEVENT
BEGIN:VEVENT
DTSTART;TZID=Europe/Berlin:20240205T200000
DTEND;TZID=Europe/Berlin:20240205T220000
DTSTAMP:20260422T215345
CREATED:20231217T114950Z
LAST-MODIFIED:20231217T114950Z
UID:3016-1707163200-1707170400@www.fw-hardtschoenbuehlhof.de
SUMMARY:Funk und Ortskunde
DESCRIPTION:Nicole Hoppe
URL:https://www.fw-hardtschoenbuehlhof.de/event/funk-und-ortskunde/
LOCATION:Feuerwehrgerätehaus\, Schulweg\, Hardthof\, 71706\, Deutschland
CATEGORIES:Übungsdienst
END:VEVENT
BEGIN:VEVENT
DTSTART;TZID=Europe/Berlin:20240210T093000
DTEND;TZID=Europe/Berlin:20240210T150000
DTSTAMP:20260422T215345
CREATED:20240204T112539Z
LAST-MODIFIED:20240204T112539Z
UID:3187-1707557400-1707577200@www.fw-hardtschoenbuehlhof.de
SUMMARY:Sportplatzrodung
DESCRIPTION:
URL:https://www.fw-hardtschoenbuehlhof.de/event/sportplatzrodung/
LOCATION:Sportplatz\, Stuttgarter Straße\, Hardthof\, 71706\, Deutschland
CATEGORIES:Aufbau / Abbau Veranstaltung
END:VEVENT
BEGIN:VEVENT
DTSTART;TZID=Europe/Berlin:20240212T200000
DTEND;TZID=Europe/Berlin:20240212T220000
DTSTAMP:20260422T215345
CREATED:20231217T114950Z
LAST-MODIFIED:20231225T005045Z
UID:3017-1707768000-1707775200@www.fw-hardtschoenbuehlhof.de
SUMMARY:Ausschusssitzung
DESCRIPTION:
URL:https://www.fw-hardtschoenbuehlhof.de/event/auschusssitzung/
LOCATION:Feuerwehrraum Gemeindehaus\, Schulweg 5\, Feuerwehrraum Gemeindehaus HuS\, BW\, 71706\, Deutschland
CATEGORIES:Sitzungstermin oV
END:VEVENT
BEGIN:VEVENT
DTSTART;TZID=Europe/Berlin:20240219T200000
DTEND;TZID=Europe/Berlin:20240219T220000
DTSTAMP:20260422T215345
CREATED:20231217T114950Z
LAST-MODIFIED:20231217T114950Z
UID:3018-1708372800-1708380000@www.fw-hardtschoenbuehlhof.de
SUMMARY:Stationsausbildung Geräte
DESCRIPTION:Jürgen Merkle
URL:https://www.fw-hardtschoenbuehlhof.de/event/stationsausbildung-geraete-2/
LOCATION:Feuerwehrgerätehaus\, Schulweg\, Hardthof\, 71706\, Deutschland
CATEGORIES:Übungsdienst
END:VEVENT
BEGIN:VEVENT
DTSTART;TZID=Europe/Berlin:20240223T193000
DTEND;TZID=Europe/Berlin:20240223T220000
DTSTAMP:20260422T215345
CREATED:20231217T114950Z
LAST-MODIFIED:20240129T061710Z
UID:3019-1708716600-1708725600@www.fw-hardtschoenbuehlhof.de
SUMMARY:Jahreshauptversammlung Markgröningen
DESCRIPTION:
URL:https://www.fw-hardtschoenbuehlhof.de/event/jahreshauptversammlung-markgroeningen/
LOCATION:Stadthalle am Benzberg\, Benzberg 1\, Markgröningen\, 71706\, Deutschland
CATEGORIES:Jahreshauptversammlung
END:VEVENT
END:VCALENDAR