BEGIN:VCALENDAR
VERSION:2.0
PRODID:-//Freiwillige Feuerwehr Hardt- und Schönbühlhof - ECPv6.15.13.1//NONSGML v1.0//EN
CALSCALE:GREGORIAN
METHOD:PUBLISH
X-ORIGINAL-URL:https://www.fw-hardtschoenbuehlhof.de
X-WR-CALDESC:Veranstaltungen für Freiwillige Feuerwehr Hardt- und Schönbühlhof
REFRESH-INTERVAL;VALUE=DURATION:PT1H
X-Robots-Tag:noindex
X-PUBLISHED-TTL:PT1H
BEGIN:VTIMEZONE
TZID:Europe/Berlin
BEGIN:DAYLIGHT
TZOFFSETFROM:+0100
TZOFFSETTO:+0200
TZNAME:CEST
DTSTART:20230326T010000
END:DAYLIGHT
BEGIN:STANDARD
TZOFFSETFROM:+0200
TZOFFSETTO:+0100
TZNAME:CET
DTSTART:20231029T010000
END:STANDARD
BEGIN:DAYLIGHT
TZOFFSETFROM:+0100
TZOFFSETTO:+0200
TZNAME:CEST
DTSTART:20240331T010000
END:DAYLIGHT
BEGIN:STANDARD
TZOFFSETFROM:+0200
TZOFFSETTO:+0100
TZNAME:CET
DTSTART:20241027T010000
END:STANDARD
BEGIN:DAYLIGHT
TZOFFSETFROM:+0100
TZOFFSETTO:+0200
TZNAME:CEST
DTSTART:20250330T010000
END:DAYLIGHT
BEGIN:STANDARD
TZOFFSETFROM:+0200
TZOFFSETTO:+0100
TZNAME:CET
DTSTART:20251026T010000
END:STANDARD
END:VTIMEZONE
BEGIN:VEVENT
DTSTART;TZID=Europe/Berlin:20240304T200000
DTEND;TZID=Europe/Berlin:20240304T220000
DTSTAMP:20260422T202154
CREATED:20231217T114950Z
LAST-MODIFIED:20231217T114950Z
UID:3020-1709582400-1709589600@www.fw-hardtschoenbuehlhof.de
SUMMARY:Löschübung
DESCRIPTION:Lars Brenner
URL:https://www.fw-hardtschoenbuehlhof.de/event/loeschuebung-12/
LOCATION:Feuerwehrgerätehaus\, Schulweg\, Hardthof\, 71706\, Deutschland
CATEGORIES:Übungsdienst
END:VEVENT
BEGIN:VEVENT
DTSTART;TZID=Europe/Berlin:20240311T200000
DTEND;TZID=Europe/Berlin:20240311T220000
DTSTAMP:20260422T202154
CREATED:20231217T114950Z
LAST-MODIFIED:20231217T114950Z
UID:3021-1710187200-1710194400@www.fw-hardtschoenbuehlhof.de
SUMMARY:Atemschutzgeräteträger Retten und Selbstretten
DESCRIPTION:Michael Noe
URL:https://www.fw-hardtschoenbuehlhof.de/event/atemschutzgeraetetraeger-retten-und-selbstretten/
LOCATION:Feuerwehrgerätehaus\, Schulweg\, Hardthof\, 71706\, Deutschland
CATEGORIES:Übungsdienst
END:VEVENT
BEGIN:VEVENT
DTSTART;TZID=Europe/Berlin:20240316T200000
DTEND;TZID=Europe/Berlin:20240316T220000
DTSTAMP:20260422T202154
CREATED:20231217T114950Z
LAST-MODIFIED:20231217T114950Z
UID:3022-1710619200-1710626400@www.fw-hardtschoenbuehlhof.de
SUMMARY:Kameradschaftsabend
DESCRIPTION:
URL:https://www.fw-hardtschoenbuehlhof.de/event/kameradschaftsabend/
LOCATION:Feuerwehrraum Gemeindehaus\, Schulweg 5\, Feuerwehrraum Gemeindehaus HuS\, BW\, 71706\, Deutschland
CATEGORIES:Kameradschaftsabend
END:VEVENT
BEGIN:VEVENT
DTSTART;TZID=Europe/Berlin:20240318T200000
DTEND;TZID=Europe/Berlin:20240318T220000
DTSTAMP:20260422T202154
CREATED:20231217T114950Z
LAST-MODIFIED:20231217T114950Z
UID:3023-1710792000-1710799200@www.fw-hardtschoenbuehlhof.de
SUMMARY:Ausbildung WBK/Messgeräte
DESCRIPTION:Luka Treftz
URL:https://www.fw-hardtschoenbuehlhof.de/event/ausbildung-wbk-messgeraete/
LOCATION:Feuerwehrgerätehaus\, Schulweg\, Hardthof\, 71706\, Deutschland
CATEGORIES:Übungsdienst
END:VEVENT
BEGIN:VEVENT
DTSTART;TZID=Europe/Berlin:20240319T200000
DTEND;TZID=Europe/Berlin:20240319T220000
DTSTAMP:20260422T202154
CREATED:20231217T114950Z
LAST-MODIFIED:20231225T005111Z
UID:3024-1710878400-1710885600@www.fw-hardtschoenbuehlhof.de
SUMMARY:Ausschusssitzung
DESCRIPTION:
URL:https://www.fw-hardtschoenbuehlhof.de/event/auschusssitzung-2/
LOCATION:Feuerwehrraum Gemeindehaus\, Schulweg 5\, Feuerwehrraum Gemeindehaus HuS\, BW\, 71706\, Deutschland
CATEGORIES:Sitzungstermin oV
END:VEVENT
BEGIN:VEVENT
DTSTART;TZID=Europe/Berlin:20240326T180000
DTEND;TZID=Europe/Berlin:20240326T190000
DTSTAMP:20260422T202154
CREATED:20231217T114950Z
LAST-MODIFIED:20231217T114950Z
UID:3025-1711476000-1711479600@www.fw-hardtschoenbuehlhof.de
SUMMARY:Belastungsübung Atemschutzstrecke
DESCRIPTION:Christian Troll\, Lars Brenner
URL:https://www.fw-hardtschoenbuehlhof.de/event/belastungsuebung-atemschutzstrecke-3/
LOCATION:Feuerwehr Leonberg\, Römerstraße 134\, Leonberg\, Feuerwehr Leonberg\, Römerstraße 134\, 71229 Leonberg\, BW\, 71229\, Deutschland
CATEGORIES:Übungsdienst
END:VEVENT
END:VCALENDAR