BEGIN:VCALENDAR
VERSION:2.0
PRODID:-//Freiwillige Feuerwehr Hardt- und Schönbühlhof - ECPv6.15.13.1//NONSGML v1.0//EN
CALSCALE:GREGORIAN
METHOD:PUBLISH
X-WR-CALNAME:Freiwillige Feuerwehr Hardt- und Schönbühlhof
X-ORIGINAL-URL:https://www.fw-hardtschoenbuehlhof.de
X-WR-CALDESC:Veranstaltungen für Freiwillige Feuerwehr Hardt- und Schönbühlhof
REFRESH-INTERVAL;VALUE=DURATION:PT1H
X-Robots-Tag:noindex
X-PUBLISHED-TTL:PT1H
BEGIN:VTIMEZONE
TZID:Europe/Berlin
BEGIN:DAYLIGHT
TZOFFSETFROM:+0100
TZOFFSETTO:+0200
TZNAME:CEST
DTSTART:20230326T010000
END:DAYLIGHT
BEGIN:STANDARD
TZOFFSETFROM:+0200
TZOFFSETTO:+0100
TZNAME:CET
DTSTART:20231029T010000
END:STANDARD
BEGIN:DAYLIGHT
TZOFFSETFROM:+0100
TZOFFSETTO:+0200
TZNAME:CEST
DTSTART:20240331T010000
END:DAYLIGHT
BEGIN:STANDARD
TZOFFSETFROM:+0200
TZOFFSETTO:+0100
TZNAME:CET
DTSTART:20241027T010000
END:STANDARD
BEGIN:DAYLIGHT
TZOFFSETFROM:+0100
TZOFFSETTO:+0200
TZNAME:CEST
DTSTART:20250330T010000
END:DAYLIGHT
BEGIN:STANDARD
TZOFFSETFROM:+0200
TZOFFSETTO:+0100
TZNAME:CET
DTSTART:20251026T010000
END:STANDARD
END:VTIMEZONE
BEGIN:VEVENT
DTSTART;VALUE=DATE:20240406
DTEND;VALUE=DATE:20240408
DTSTAMP:20260422T190726
CREATED:20240214T101250Z
LAST-MODIFIED:20240214T101250Z
UID:3238-1712361600-1712534399@www.fw-hardtschoenbuehlhof.de
SUMMARY:Übung Roter Heuberg
DESCRIPTION:Teilnehmer lt. Liste
URL:https://www.fw-hardtschoenbuehlhof.de/event/uebung-roter-heuberg/
LOCATION:Truppenübungsplatz Heuberg\, Lager Heuberg\, Stetten am kalten Markt\, Baden-Württemberg\, 72510
CATEGORIES:Lehrgang,Übungsdienst
END:VEVENT
BEGIN:VEVENT
DTSTART;TZID=Europe/Berlin:20240408T200000
DTEND;TZID=Europe/Berlin:20240408T220000
DTSTAMP:20260422T190726
CREATED:20231217T114950Z
LAST-MODIFIED:20231217T114950Z
UID:3026-1712606400-1712613600@www.fw-hardtschoenbuehlhof.de
SUMMARY:Technische Hilfeleistung
DESCRIPTION:Patrick Warthmann
URL:https://www.fw-hardtschoenbuehlhof.de/event/technische-hilfeleistung-3/
LOCATION:Feuerwehrgerätehaus\, Schulweg\, Hardthof\, 71706\, Deutschland
CATEGORIES:Übungsdienst
END:VEVENT
BEGIN:VEVENT
DTSTART;TZID=Europe/Berlin:20240412T200000
DTEND;TZID=Europe/Berlin:20240412T220000
DTSTAMP:20260422T190726
CREATED:20231217T114950Z
LAST-MODIFIED:20231217T114950Z
UID:3027-1712952000-1712959200@www.fw-hardtschoenbuehlhof.de
SUMMARY:KFV Verbandsversammlung
DESCRIPTION:
URL:https://www.fw-hardtschoenbuehlhof.de/event/kfv-verbandsversammlung/
CATEGORIES:Jahreshauptversammlung
END:VEVENT
BEGIN:VEVENT
DTSTART;TZID=Europe/Berlin:20240422T200000
DTEND;TZID=Europe/Berlin:20240422T220000
DTSTAMP:20260422T190726
CREATED:20231217T114950Z
LAST-MODIFIED:20231217T114950Z
UID:3028-1713816000-1713823200@www.fw-hardtschoenbuehlhof.de
SUMMARY:Löschübung Rettung Tragbare Leiter
DESCRIPTION:Sofia Nowak
URL:https://www.fw-hardtschoenbuehlhof.de/event/loeschuebung-rettung-tragbare-leiter/
LOCATION:Feuerwehrgerätehaus\, Schulweg\, Hardthof\, 71706\, Deutschland
CATEGORIES:Übungsdienst
END:VEVENT
BEGIN:VEVENT
DTSTART;TZID=Europe/Berlin:20240426T180000
DTEND;TZID=Europe/Berlin:20240426T200000
DTSTAMP:20260422T190726
CREATED:20231217T114958Z
LAST-MODIFIED:20240214T100745Z
UID:3030-1714154400-1714161600@www.fw-hardtschoenbuehlhof.de
SUMMARY:Reisig / Maibaum holen
DESCRIPTION:
URL:https://www.fw-hardtschoenbuehlhof.de/event/vorbereitung-maibaumstellen/
LOCATION:Feuerwehrgerätehaus\, Schulweg\, Hardthof\, 71706\, Deutschland
CATEGORIES:Aufbau / Abbau Veranstaltung
END:VEVENT
BEGIN:VEVENT
DTSTART;TZID=Europe/Berlin:20240427T135900
DTEND;TZID=Europe/Berlin:20240427T160000
DTSTAMP:20260422T190726
CREATED:20231217T114958Z
LAST-MODIFIED:20231217T114958Z
UID:3031-1714226340-1714233600@www.fw-hardtschoenbuehlhof.de
SUMMARY:KFV Verbandsversammlung Alterswehr
DESCRIPTION:
URL:https://www.fw-hardtschoenbuehlhof.de/event/kfv-verbandsversammlung-alterswehr/
CATEGORIES:Jahreshauptversammlung
END:VEVENT
BEGIN:VEVENT
DTSTART;TZID=Europe/Berlin:20240429T180000
DTEND;TZID=Europe/Berlin:20240429T200000
DTSTAMP:20260422T190726
CREATED:20231217T114958Z
LAST-MODIFIED:20240214T100846Z
UID:3032-1714413600-1714420800@www.fw-hardtschoenbuehlhof.de
SUMMARY:Vorbereitung Maibaumstellen - Zeltaufbau
DESCRIPTION:
URL:https://www.fw-hardtschoenbuehlhof.de/event/reisig-maibaum/
LOCATION:Feuerwehrgerätehaus\, Schulweg\, Hardthof\, 71706\, Deutschland
CATEGORIES:Maibaumstellen
END:VEVENT
BEGIN:VEVENT
DTSTART;TZID=Europe/Berlin:20240430T150000
DTEND;TZID=Europe/Berlin:20240430T235900
DTSTAMP:20260422T190726
CREATED:20231217T114958Z
LAST-MODIFIED:20240214T101407Z
UID:3033-1714489200-1714521540@www.fw-hardtschoenbuehlhof.de
SUMMARY:Maibaumstellen
DESCRIPTION:
URL:https://www.fw-hardtschoenbuehlhof.de/event/maibaumstellen/
LOCATION:Feuerwehrgerätehaus\, Schulweg\, Hardthof\, 71706\, Deutschland
CATEGORIES:Maibaumstellen
END:VEVENT
END:VCALENDAR