BEGIN:VCALENDAR
VERSION:2.0
PRODID:-//Freiwillige Feuerwehr Hardt- und Schönbühlhof - ECPv6.15.13.1//NONSGML v1.0//EN
CALSCALE:GREGORIAN
METHOD:PUBLISH
X-ORIGINAL-URL:https://www.fw-hardtschoenbuehlhof.de
X-WR-CALDESC:Veranstaltungen für Freiwillige Feuerwehr Hardt- und Schönbühlhof
REFRESH-INTERVAL;VALUE=DURATION:PT1H
X-Robots-Tag:noindex
X-PUBLISHED-TTL:PT1H
BEGIN:VTIMEZONE
TZID:Europe/Berlin
BEGIN:DAYLIGHT
TZOFFSETFROM:+0100
TZOFFSETTO:+0200
TZNAME:CEST
DTSTART:20230326T010000
END:DAYLIGHT
BEGIN:STANDARD
TZOFFSETFROM:+0200
TZOFFSETTO:+0100
TZNAME:CET
DTSTART:20231029T010000
END:STANDARD
BEGIN:DAYLIGHT
TZOFFSETFROM:+0100
TZOFFSETTO:+0200
TZNAME:CEST
DTSTART:20240331T010000
END:DAYLIGHT
BEGIN:STANDARD
TZOFFSETFROM:+0200
TZOFFSETTO:+0100
TZNAME:CET
DTSTART:20241027T010000
END:STANDARD
BEGIN:DAYLIGHT
TZOFFSETFROM:+0100
TZOFFSETTO:+0200
TZNAME:CEST
DTSTART:20250330T010000
END:DAYLIGHT
BEGIN:STANDARD
TZOFFSETFROM:+0200
TZOFFSETTO:+0100
TZNAME:CET
DTSTART:20251026T010000
END:STANDARD
END:VTIMEZONE
BEGIN:VEVENT
DTSTART;TZID=Europe/Berlin:20240603T200000
DTEND;TZID=Europe/Berlin:20240603T220000
DTSTAMP:20260422T161250
CREATED:20231217T114958Z
LAST-MODIFIED:20231225T005136Z
UID:3039-1717444800-1717452000@www.fw-hardtschoenbuehlhof.de
SUMMARY:Ausschusssitzung
DESCRIPTION:
URL:https://www.fw-hardtschoenbuehlhof.de/event/auschusssitzung-3/
LOCATION:Feuerwehrraum Gemeindehaus\, Schulweg 5\, Feuerwehrraum Gemeindehaus HuS\, BW\, 71706\, Deutschland
CATEGORIES:Sitzungstermin oV
END:VEVENT
BEGIN:VEVENT
DTSTART;TZID=Europe/Berlin:20240607T163000
DTEND;TZID=Europe/Berlin:20240607T210000
DTSTAMP:20260422T161250
CREATED:20240509T093227Z
LAST-MODIFIED:20240509T093414Z
UID:3285-1717777800-1717794000@www.fw-hardtschoenbuehlhof.de
SUMMARY:Stäffeleslauf Bad Wildbad
DESCRIPTION:Teilnehmer lt. Liste
URL:https://www.fw-hardtschoenbuehlhof.de/event/staeffeleslauf-bad-wildbad/
LOCATION:Bad Wildbad\, Uhlandplatz 7\, Bad Wildbad\, Baden-Württemberg\, 75323\, Deutschland
CATEGORIES:Ausflug
END:VEVENT
BEGIN:VEVENT
DTSTART;TZID=Europe/Berlin:20240610T200000
DTEND;TZID=Europe/Berlin:20240610T220000
DTSTAMP:20260422T161250
CREATED:20231217T114958Z
LAST-MODIFIED:20231217T114958Z
UID:3040-1718049600-1718056800@www.fw-hardtschoenbuehlhof.de
SUMMARY:Übung Gefahrgut
DESCRIPTION:Michael Noe
URL:https://www.fw-hardtschoenbuehlhof.de/event/uebung-gefahrgut/
LOCATION:Feuerwehrgerätehaus\, Schulweg\, Hardthof\, 71706\, Deutschland
CATEGORIES:Übungsdienst
END:VEVENT
BEGIN:VEVENT
DTSTART;TZID=Europe/Berlin:20240615T045900
DTEND;TZID=Europe/Berlin:20240616T200000
DTSTAMP:20260422T161250
CREATED:20231217T114958Z
LAST-MODIFIED:20231217T114958Z
UID:3041-1718427540-1718568000@www.fw-hardtschoenbuehlhof.de
SUMMARY:Hüttenwanderung
DESCRIPTION:Michael Staubitz
URL:https://www.fw-hardtschoenbuehlhof.de/event/huettenwanderung-2/
CATEGORIES:Ausflug
END:VEVENT
BEGIN:VEVENT
DTSTART;TZID=Europe/Berlin:20240617T200000
DTEND;TZID=Europe/Berlin:20240617T220000
DTSTAMP:20260422T161250
CREATED:20231217T114958Z
LAST-MODIFIED:20231217T114958Z
UID:3042-1718654400-1718661600@www.fw-hardtschoenbuehlhof.de
SUMMARY:Atemschutzgeräteträger Arbeiten unter Nullsicht
DESCRIPTION:Lars Brenner
URL:https://www.fw-hardtschoenbuehlhof.de/event/atemschutzgeraetetraeger-arbeiten-unter-nullsicht/
LOCATION:Feuerwehrgerätehaus\, Schulweg\, Hardthof\, 71706\, Deutschland
CATEGORIES:Übungsdienst
END:VEVENT
BEGIN:VEVENT
DTSTART;TZID=Europe/Berlin:20240621T080000
DTEND;TZID=Europe/Berlin:20240623T200000
DTSTAMP:20260422T161250
CREATED:20231217T114958Z
LAST-MODIFIED:20240206T192418Z
UID:3043-1718956800-1719172800@www.fw-hardtschoenbuehlhof.de
SUMMARY:Kommandantenseminar Titisee
DESCRIPTION:
URL:https://www.fw-hardtschoenbuehlhof.de/event/komandanten-dienstbesprechung-titisee/
LOCATION:Sankt Florian Feuerwehrhotel\, Bruderhalde 30\, Hinterzarten\, 79856\, Deutschland
CATEGORIES:Sitzungstermin oV
END:VEVENT
BEGIN:VEVENT
DTSTART;TZID=Europe/Berlin:20240624T200000
DTEND;TZID=Europe/Berlin:20240624T200000
DTSTAMP:20260422T161250
CREATED:20231217T114958Z
LAST-MODIFIED:20231217T114958Z
UID:3044-1719259200-1719259200@www.fw-hardtschoenbuehlhof.de
SUMMARY:Übung Rettungstechniken PKW
DESCRIPTION:Lukas Gutscher
URL:https://www.fw-hardtschoenbuehlhof.de/event/uebung-rettungstechniken-pkw/
LOCATION:Feuerwehrgerätehaus\, Schulweg\, Hardthof\, 71706\, Deutschland
CATEGORIES:Übungsdienst
END:VEVENT
END:VCALENDAR