BEGIN:VCALENDAR
VERSION:2.0
PRODID:-//Freiwillige Feuerwehr Hardt- und Schönbühlhof - ECPv6.15.13.1//NONSGML v1.0//EN
CALSCALE:GREGORIAN
METHOD:PUBLISH
X-ORIGINAL-URL:https://www.fw-hardtschoenbuehlhof.de
X-WR-CALDESC:Veranstaltungen für Freiwillige Feuerwehr Hardt- und Schönbühlhof
REFRESH-INTERVAL;VALUE=DURATION:PT1H
X-Robots-Tag:noindex
X-PUBLISHED-TTL:PT1H
BEGIN:VTIMEZONE
TZID:Europe/Berlin
BEGIN:DAYLIGHT
TZOFFSETFROM:+0100
TZOFFSETTO:+0200
TZNAME:CEST
DTSTART:20230326T010000
END:DAYLIGHT
BEGIN:STANDARD
TZOFFSETFROM:+0200
TZOFFSETTO:+0100
TZNAME:CET
DTSTART:20231029T010000
END:STANDARD
BEGIN:DAYLIGHT
TZOFFSETFROM:+0100
TZOFFSETTO:+0200
TZNAME:CEST
DTSTART:20240331T010000
END:DAYLIGHT
BEGIN:STANDARD
TZOFFSETFROM:+0200
TZOFFSETTO:+0100
TZNAME:CET
DTSTART:20241027T010000
END:STANDARD
BEGIN:DAYLIGHT
TZOFFSETFROM:+0100
TZOFFSETTO:+0200
TZNAME:CEST
DTSTART:20250330T010000
END:DAYLIGHT
BEGIN:STANDARD
TZOFFSETFROM:+0200
TZOFFSETTO:+0100
TZNAME:CET
DTSTART:20251026T010000
END:STANDARD
END:VTIMEZONE
BEGIN:VEVENT
DTSTART;TZID=Europe/Berlin:20240702T180000
DTEND;TZID=Europe/Berlin:20240702T190000
DTSTAMP:20260422T143527
CREATED:20231217T114958Z
LAST-MODIFIED:20231217T114958Z
UID:3045-1719943200-1719946800@www.fw-hardtschoenbuehlhof.de
SUMMARY:Belastungsübung Atemschutzstrecke
DESCRIPTION:
URL:https://www.fw-hardtschoenbuehlhof.de/event/belastungsuebung-atemschutzstrecke-4/
LOCATION:Feuerwehr Leonberg\, Römerstraße 134\, Leonberg\, Feuerwehr Leonberg\, Römerstraße 134\, 71229 Leonberg\, BW\, 71229\, Deutschland
CATEGORIES:Übungsdienst
END:VEVENT
BEGIN:VEVENT
DTSTART;TZID=Europe/Berlin:20240708T200000
DTEND;TZID=Europe/Berlin:20240708T220000
DTSTAMP:20260422T143527
CREATED:20231217T114958Z
LAST-MODIFIED:20231217T114958Z
UID:3046-1720468800-1720476000@www.fw-hardtschoenbuehlhof.de
SUMMARY:Löschübung
DESCRIPTION:Roland Gutscher
URL:https://www.fw-hardtschoenbuehlhof.de/event/loeschuebung-14/
LOCATION:Feuerwehrgerätehaus\, Schulweg\, Hardthof\, 71706\, Deutschland
CATEGORIES:Übungsdienst
END:VEVENT
BEGIN:VEVENT
DTSTART;TZID=Europe/Berlin:20240713T133000
DTEND;TZID=Europe/Berlin:20240713T200000
DTSTAMP:20260422T143527
CREATED:20231217T114958Z
LAST-MODIFIED:20240618T080841Z
UID:3047-1720877400-1720900800@www.fw-hardtschoenbuehlhof.de
SUMMARY:Tagesausflug
DESCRIPTION:
URL:https://www.fw-hardtschoenbuehlhof.de/event/tagesausflug/
LOCATION:Dorfplatz\, Schettlerplatz\, Hardt- und Schönbühlhof\, Baden-Württemberg\, 71706\, Deutschland
CATEGORIES:Ausflug
END:VEVENT
BEGIN:VEVENT
DTSTART;TZID=Europe/Berlin:20240715T200000
DTEND;TZID=Europe/Berlin:20240715T220000
DTSTAMP:20260422T143527
CREATED:20240604T080958Z
LAST-MODIFIED:20240604T080958Z
UID:3378-1721073600-1721080800@www.fw-hardtschoenbuehlhof.de
SUMMARY:Außerordentliche Versammlung Einsatzabteilung
DESCRIPTION:Tagesordnung: \nTOP1: Neuwahl Stv. Kommandant \nTOP2: Verschiedenes
URL:https://www.fw-hardtschoenbuehlhof.de/event/ausserordentliche-versammlung-einsatzabteilung/
LOCATION:Feuerwehrgerätehaus\, Schulweg\, Hardthof\, 71706\, Deutschland
CATEGORIES:Jahreshauptversammlung
END:VEVENT
BEGIN:VEVENT
DTSTART;TZID=Europe/Berlin:20240722T200000
DTEND;TZID=Europe/Berlin:20240722T220000
DTSTAMP:20260422T143527
CREATED:20231217T114958Z
LAST-MODIFIED:20231217T114958Z
UID:3048-1721678400-1721685600@www.fw-hardtschoenbuehlhof.de
SUMMARY:Übung Technische Hilfeleistung Verkehrsunfall
DESCRIPTION:Christian Merkle
URL:https://www.fw-hardtschoenbuehlhof.de/event/uebung-technische-hilfeleistung-verkehrsunfall/
LOCATION:Feuerwehrgerätehaus\, Schulweg\, Hardthof\, 71706\, Deutschland
CATEGORIES:Übungsdienst
END:VEVENT
BEGIN:VEVENT
DTSTART;TZID=Europe/Berlin:20240727T190000
DTEND;TZID=Europe/Berlin:20240727T220000
DTSTAMP:20260422T143527
CREATED:20231217T115007Z
LAST-MODIFIED:20240618T081109Z
UID:3050-1722106800-1722117600@www.fw-hardtschoenbuehlhof.de
SUMMARY:Sommerfest
DESCRIPTION:
URL:https://www.fw-hardtschoenbuehlhof.de/event/sommerfest-2/
LOCATION:Dorfplatz\, Schettlerplatz\, Hardt- und Schönbühlhof\, Baden-Württemberg\, 71706\, Deutschland
CATEGORIES:Ausflug
END:VEVENT
END:VCALENDAR