BEGIN:VCALENDAR
VERSION:2.0
PRODID:-//Freiwillige Feuerwehr Hardt- und Schönbühlhof - ECPv6.15.13.1//NONSGML v1.0//EN
CALSCALE:GREGORIAN
METHOD:PUBLISH
X-ORIGINAL-URL:https://www.fw-hardtschoenbuehlhof.de
X-WR-CALDESC:Veranstaltungen für Freiwillige Feuerwehr Hardt- und Schönbühlhof
REFRESH-INTERVAL;VALUE=DURATION:PT1H
X-Robots-Tag:noindex
X-PUBLISHED-TTL:PT1H
BEGIN:VTIMEZONE
TZID:Europe/Berlin
BEGIN:DAYLIGHT
TZOFFSETFROM:+0100
TZOFFSETTO:+0200
TZNAME:CEST
DTSTART:20230326T010000
END:DAYLIGHT
BEGIN:STANDARD
TZOFFSETFROM:+0200
TZOFFSETTO:+0100
TZNAME:CET
DTSTART:20231029T010000
END:STANDARD
BEGIN:DAYLIGHT
TZOFFSETFROM:+0100
TZOFFSETTO:+0200
TZNAME:CEST
DTSTART:20240331T010000
END:DAYLIGHT
BEGIN:STANDARD
TZOFFSETFROM:+0200
TZOFFSETTO:+0100
TZNAME:CET
DTSTART:20241027T010000
END:STANDARD
BEGIN:DAYLIGHT
TZOFFSETFROM:+0100
TZOFFSETTO:+0200
TZNAME:CEST
DTSTART:20250330T010000
END:DAYLIGHT
BEGIN:STANDARD
TZOFFSETFROM:+0200
TZOFFSETTO:+0100
TZNAME:CET
DTSTART:20251026T010000
END:STANDARD
END:VTIMEZONE
BEGIN:VEVENT
DTSTART;TZID=Europe/Berlin:20240805T200000
DTEND;TZID=Europe/Berlin:20240805T220000
DTSTAMP:20260422T131720
CREATED:20231217T115007Z
LAST-MODIFIED:20231217T115007Z
UID:3051-1722888000-1722895200@www.fw-hardtschoenbuehlhof.de
SUMMARY:Löschübung
DESCRIPTION:Bernd Merk
URL:https://www.fw-hardtschoenbuehlhof.de/event/loeschuebung-15/
LOCATION:Feuerwehrgerätehaus\, Schulweg\, Hardthof\, 71706\, Deutschland
CATEGORIES:Übungsdienst
END:VEVENT
BEGIN:VEVENT
DTSTART;TZID=Europe/Berlin:20240813T200000
DTEND;TZID=Europe/Berlin:20240813T220000
DTSTAMP:20260422T131720
CREATED:20231217T115007Z
LAST-MODIFIED:20240604T080719Z
UID:3052-1723579200-1723586400@www.fw-hardtschoenbuehlhof.de
SUMMARY:Ausschusssitzung
DESCRIPTION:
URL:https://www.fw-hardtschoenbuehlhof.de/event/auschusssitzung-4/
LOCATION:Feuerwehrraum Gemeindehaus\, Schulweg 5\, Feuerwehrraum Gemeindehaus HuS\, BW\, 71706\, Deutschland
CATEGORIES:Sitzungstermin oV
END:VEVENT
BEGIN:VEVENT
DTSTART;TZID=Europe/Berlin:20240819T200000
DTEND;TZID=Europe/Berlin:20240819T220000
DTSTAMP:20260422T131720
CREATED:20231217T115007Z
LAST-MODIFIED:20231217T115007Z
UID:3053-1724097600-1724104800@www.fw-hardtschoenbuehlhof.de
SUMMARY:Übung Technische Hilfeleistung
DESCRIPTION:Michael Gutscher
URL:https://www.fw-hardtschoenbuehlhof.de/event/uebung-technische-hilfeleistung/
LOCATION:Feuerwehrgerätehaus\, Schulweg\, Hardthof\, 71706\, Deutschland
CATEGORIES:Übungsdienst
END:VEVENT
BEGIN:VEVENT
DTSTART;TZID=Europe/Berlin:20240824T180000
DTEND;TZID=Europe/Berlin:20240825T234500
DTSTAMP:20260422T131720
CREATED:20231217T115007Z
LAST-MODIFIED:20231217T115007Z
UID:3054-1724522400-1724629500@www.fw-hardtschoenbuehlhof.de
SUMMARY:Schäferlaufdienst
DESCRIPTION:
URL:https://www.fw-hardtschoenbuehlhof.de/event/schaeferlaufdienst/
LOCATION:Markgröningen\, Markgröningen\, 71706\, Deutschland
CATEGORIES:Aufbau / Abbau Veranstaltung
END:VEVENT
END:VCALENDAR