BEGIN:VCALENDAR
VERSION:2.0
PRODID:-//Freiwillige Feuerwehr Hardt- und Schönbühlhof - ECPv6.15.13.1//NONSGML v1.0//EN
CALSCALE:GREGORIAN
METHOD:PUBLISH
X-ORIGINAL-URL:https://www.fw-hardtschoenbuehlhof.de
X-WR-CALDESC:Veranstaltungen für Freiwillige Feuerwehr Hardt- und Schönbühlhof
REFRESH-INTERVAL;VALUE=DURATION:PT1H
X-Robots-Tag:noindex
X-PUBLISHED-TTL:PT1H
BEGIN:VTIMEZONE
TZID:Europe/Berlin
BEGIN:DAYLIGHT
TZOFFSETFROM:+0100
TZOFFSETTO:+0200
TZNAME:CEST
DTSTART:20230326T010000
END:DAYLIGHT
BEGIN:STANDARD
TZOFFSETFROM:+0200
TZOFFSETTO:+0100
TZNAME:CET
DTSTART:20231029T010000
END:STANDARD
BEGIN:DAYLIGHT
TZOFFSETFROM:+0100
TZOFFSETTO:+0200
TZNAME:CEST
DTSTART:20240331T010000
END:DAYLIGHT
BEGIN:STANDARD
TZOFFSETFROM:+0200
TZOFFSETTO:+0100
TZNAME:CET
DTSTART:20241027T010000
END:STANDARD
BEGIN:DAYLIGHT
TZOFFSETFROM:+0100
TZOFFSETTO:+0200
TZNAME:CEST
DTSTART:20250330T010000
END:DAYLIGHT
BEGIN:STANDARD
TZOFFSETFROM:+0200
TZOFFSETTO:+0100
TZNAME:CET
DTSTART:20251026T010000
END:STANDARD
END:VTIMEZONE
BEGIN:VEVENT
DTSTART;TZID=Europe/Berlin:20240904T073000
DTEND;TZID=Europe/Berlin:20240905T220000
DTSTAMP:20260422T114946
CREATED:20231217T115007Z
LAST-MODIFIED:20240808T081953Z
UID:3055-1725435000-1725573600@www.fw-hardtschoenbuehlhof.de
SUMMARY:Aufbau Fest 125 Jahre FFW
DESCRIPTION:
URL:https://www.fw-hardtschoenbuehlhof.de/event/aufbau-fest-125-jahre-ffw/
LOCATION:Sportplatz\, Stuttgarter Straße\, Hardthof\, 71706\, Deutschland
CATEGORIES:Aufbau / Abbau Veranstaltung
END:VEVENT
BEGIN:VEVENT
DTSTART;TZID=Europe/Berlin:20240906T075900
DTEND;TZID=Europe/Berlin:20240908T220000
DTSTAMP:20260422T114946
CREATED:20231217T115007Z
LAST-MODIFIED:20231217T115007Z
UID:3056-1725609540-1725832800@www.fw-hardtschoenbuehlhof.de
SUMMARY:125 Jahre FFW
DESCRIPTION:
URL:https://www.fw-hardtschoenbuehlhof.de/event/125-jahre-ffw/
LOCATION:Sportplatz\, Stuttgarter Straße\, Hardthof\, 71706\, Deutschland
CATEGORIES:Hoffest
END:VEVENT
BEGIN:VEVENT
DTSTART;TZID=Europe/Berlin:20240909T075900
DTEND;TZID=Europe/Berlin:20240909T200000
DTSTAMP:20260422T114946
CREATED:20231217T115007Z
LAST-MODIFIED:20231217T115007Z
UID:3057-1725868740-1725912000@www.fw-hardtschoenbuehlhof.de
SUMMARY:Abbau Fest 125 Jahre FFW
DESCRIPTION:
URL:https://www.fw-hardtschoenbuehlhof.de/event/abbau-fest-125-jahre-ffw/
LOCATION:Sportplatz\, Stuttgarter Straße\, Hardthof\, 71706\, Deutschland
CATEGORIES:Aufbau / Abbau Veranstaltung
END:VEVENT
BEGIN:VEVENT
DTSTART;TZID=Europe/Berlin:20240911T193000
DTEND;TZID=Europe/Berlin:20240911T220000
DTSTAMP:20260422T114946
CREATED:20231217T115007Z
LAST-MODIFIED:20231217T115007Z
UID:3058-1726083000-1726092000@www.fw-hardtschoenbuehlhof.de
SUMMARY:Seminar neue Kommandanten
DESCRIPTION:
URL:https://www.fw-hardtschoenbuehlhof.de/event/seminar-neue-kommandanten/
CATEGORIES:Sitzungstermin oV
END:VEVENT
BEGIN:VEVENT
DTSTART;TZID=Europe/Berlin:20240916T200000
DTEND;TZID=Europe/Berlin:20240916T220000
DTSTAMP:20260422T114946
CREATED:20231217T115007Z
LAST-MODIFIED:20231217T115007Z
UID:3059-1726516800-1726524000@www.fw-hardtschoenbuehlhof.de
SUMMARY:Löschübung
DESCRIPTION:Jürgen Merkle
URL:https://www.fw-hardtschoenbuehlhof.de/event/loeschuebung-16/
LOCATION:Feuerwehrgerätehaus\, Schulweg\, Hardthof\, 71706\, Deutschland
CATEGORIES:Übungsdienst
END:VEVENT
BEGIN:VEVENT
DTSTART;TZID=Europe/Berlin:20240927T075900
DTEND;TZID=Europe/Berlin:20240929T200000
DTSTAMP:20260422T114946
CREATED:20231217T115007Z
LAST-MODIFIED:20231217T115007Z
UID:3060-1727423940-1727640000@www.fw-hardtschoenbuehlhof.de
SUMMARY:Lehr- und Informationsfahrt
DESCRIPTION:
URL:https://www.fw-hardtschoenbuehlhof.de/event/lehr-und-informationsfahrt/
CATEGORIES:Lehr- und Informationsfahrt
END:VEVENT
BEGIN:VEVENT
DTSTART;TZID=Europe/Berlin:20240930T200000
DTEND;TZID=Europe/Berlin:20240930T220000
DTSTAMP:20260422T114946
CREATED:20231217T115007Z
LAST-MODIFIED:20231217T115007Z
UID:3061-1727726400-1727733600@www.fw-hardtschoenbuehlhof.de
SUMMARY:Vorstellung Großtierretungsmodul
DESCRIPTION:Simon Haubner
URL:https://www.fw-hardtschoenbuehlhof.de/event/vorstellung-grosstierretungsmodul/
LOCATION:Feuerwehrgerätehaus\, Schulweg\, Hardthof\, 71706\, Deutschland
CATEGORIES:Übungsdienst
END:VEVENT
END:VCALENDAR