BEGIN:VCALENDAR
VERSION:2.0
PRODID:-//Freiwillige Feuerwehr Hardt- und Schönbühlhof - ECPv6.15.13.1//NONSGML v1.0//EN
CALSCALE:GREGORIAN
METHOD:PUBLISH
X-WR-CALNAME:Freiwillige Feuerwehr Hardt- und Schönbühlhof
X-ORIGINAL-URL:https://www.fw-hardtschoenbuehlhof.de
X-WR-CALDESC:Veranstaltungen für Freiwillige Feuerwehr Hardt- und Schönbühlhof
REFRESH-INTERVAL;VALUE=DURATION:PT1H
X-Robots-Tag:noindex
X-PUBLISHED-TTL:PT1H
BEGIN:VTIMEZONE
TZID:Europe/Berlin
BEGIN:DAYLIGHT
TZOFFSETFROM:+0100
TZOFFSETTO:+0200
TZNAME:CEST
DTSTART:20250330T010000
END:DAYLIGHT
BEGIN:STANDARD
TZOFFSETFROM:+0200
TZOFFSETTO:+0100
TZNAME:CET
DTSTART:20251026T010000
END:STANDARD
BEGIN:DAYLIGHT
TZOFFSETFROM:+0100
TZOFFSETTO:+0200
TZNAME:CEST
DTSTART:20260329T010000
END:DAYLIGHT
BEGIN:STANDARD
TZOFFSETFROM:+0200
TZOFFSETTO:+0100
TZNAME:CET
DTSTART:20261025T010000
END:STANDARD
BEGIN:DAYLIGHT
TZOFFSETFROM:+0100
TZOFFSETTO:+0200
TZNAME:CEST
DTSTART:20270328T010000
END:DAYLIGHT
BEGIN:STANDARD
TZOFFSETFROM:+0200
TZOFFSETTO:+0100
TZNAME:CET
DTSTART:20271031T010000
END:STANDARD
END:VTIMEZONE
BEGIN:VEVENT
DTSTART;TZID=Europe/Berlin:20260425T090000
DTEND;TZID=Europe/Berlin:20260425T130000
DTSTAMP:20260423T111350
CREATED:20260111T114849Z
LAST-MODIFIED:20260326T193937Z
UID:4051-1777107600-1777122000@www.fw-hardtschoenbuehlhof.de
SUMMARY:Vorbereitung Maibaumstellen: Baum und Reisig holen
DESCRIPTION:
URL:https://www.fw-hardtschoenbuehlhof.de/event/vorbereitung-maibaumstellen-baum-und-reisig/
LOCATION:Feuerwehrgerätehaus\, Schulweg\, Hardthof\, 71706\, Deutschland
CATEGORIES:Aufbau / Abbau Veranstaltung
END:VEVENT
BEGIN:VEVENT
DTSTART;TZID=Europe/Berlin:20260429T180000
DTEND;TZID=Europe/Berlin:20260429T210000
DTSTAMP:20260423T111350
CREATED:20260111T114849Z
LAST-MODIFIED:20260326T194127Z
UID:4052-1777485600-1777496400@www.fw-hardtschoenbuehlhof.de
SUMMARY:Vorbereitung Maibaumstellen: Restarbeiten
DESCRIPTION:
URL:https://www.fw-hardtschoenbuehlhof.de/event/vorbereitung-maibaumstellen-zeltaufbau-2/
LOCATION:Feuerwehrgerätehaus\, Schulweg\, Hardthof\, 71706\, Deutschland
CATEGORIES:Aufbau / Abbau Veranstaltung
END:VEVENT
END:VCALENDAR