BEGIN:VCALENDAR
VERSION:2.0
PRODID:-//Freiwillige Feuerwehr Hardt- und Schönbühlhof - ECPv6.15.13.1//NONSGML v1.0//EN
CALSCALE:GREGORIAN
METHOD:PUBLISH
X-WR-CALNAME:Freiwillige Feuerwehr Hardt- und Schönbühlhof
X-ORIGINAL-URL:https://www.fw-hardtschoenbuehlhof.de
X-WR-CALDESC:Veranstaltungen für Freiwillige Feuerwehr Hardt- und Schönbühlhof
REFRESH-INTERVAL;VALUE=DURATION:PT1H
X-Robots-Tag:noindex
X-PUBLISHED-TTL:PT1H
BEGIN:VTIMEZONE
TZID:Europe/Berlin
BEGIN:DAYLIGHT
TZOFFSETFROM:+0100
TZOFFSETTO:+0200
TZNAME:CEST
DTSTART:20210328T010000
END:DAYLIGHT
BEGIN:STANDARD
TZOFFSETFROM:+0200
TZOFFSETTO:+0100
TZNAME:CET
DTSTART:20211031T010000
END:STANDARD
BEGIN:DAYLIGHT
TZOFFSETFROM:+0100
TZOFFSETTO:+0200
TZNAME:CEST
DTSTART:20220327T010000
END:DAYLIGHT
BEGIN:STANDARD
TZOFFSETFROM:+0200
TZOFFSETTO:+0100
TZNAME:CET
DTSTART:20221030T010000
END:STANDARD
BEGIN:DAYLIGHT
TZOFFSETFROM:+0100
TZOFFSETTO:+0200
TZNAME:CEST
DTSTART:20230326T010000
END:DAYLIGHT
BEGIN:STANDARD
TZOFFSETFROM:+0200
TZOFFSETTO:+0100
TZNAME:CET
DTSTART:20231029T010000
END:STANDARD
END:VTIMEZONE
BEGIN:VEVENT
DTSTART;TZID=Europe/Berlin:20220604T050000
DTEND;TZID=Europe/Berlin:20220606T235900
DTSTAMP:20260423T041734
CREATED:20220408T123418Z
LAST-MODIFIED:20220522T083058Z
UID:1433-1654318800-1654559940@www.fw-hardtschoenbuehlhof.de
SUMMARY:31-jähriges Partnerschaftsjubiläum
DESCRIPTION:
URL:https://www.fw-hardtschoenbuehlhof.de/event/__trashed-34/
LOCATION:Rudersdorf\, Rudersdorf-Ort (Burgenland)\, Rudersdorf\, Burgenland\, 7571\, Österreich
CATEGORIES:Ausflug
END:VEVENT
BEGIN:VEVENT
DTSTART;TZID=Europe/Berlin:20220618T100000
DTEND;TZID=Europe/Berlin:20220619T225900
DTSTAMP:20260423T041734
CREATED:20220408T123418Z
LAST-MODIFIED:20221223T125102Z
UID:1436-1655546400-1655679540@www.fw-hardtschoenbuehlhof.de
SUMMARY:Hoffest 2022
DESCRIPTION:
URL:https://www.fw-hardtschoenbuehlhof.de/event/__trashed-31/
LOCATION:Feuerwehrgerätehaus\, Schulweg\, Hardthof\, 71706\, Deutschland
CATEGORIES:Hoffest
END:VEVENT
END:VCALENDAR